BEGIN:VCALENDAR
VERSION:2.0
PRODID:-//Collective Efforts Union - ECPv6.15.20//NONSGML v1.0//EN
CALSCALE:GREGORIAN
METHOD:PUBLISH
X-WR-CALNAME:Collective Efforts Union
X-ORIGINAL-URL:https://collectiveeffortsunion.com
X-WR-CALDESC:Events for Collective Efforts Union
REFRESH-INTERVAL;VALUE=DURATION:PT1H
X-Robots-Tag:noindex
X-PUBLISHED-TTL:PT1H
BEGIN:VTIMEZONE
TZID:America/Chicago
BEGIN:DAYLIGHT
TZOFFSETFROM:-0600
TZOFFSETTO:-0500
TZNAME:CDT
DTSTART:20220313T080000
END:DAYLIGHT
BEGIN:STANDARD
TZOFFSETFROM:-0500
TZOFFSETTO:-0600
TZNAME:CST
DTSTART:20221106T070000
END:STANDARD
BEGIN:DAYLIGHT
TZOFFSETFROM:-0600
TZOFFSETTO:-0500
TZNAME:CDT
DTSTART:20230312T080000
END:DAYLIGHT
BEGIN:STANDARD
TZOFFSETFROM:-0500
TZOFFSETTO:-0600
TZNAME:CST
DTSTART:20231105T070000
END:STANDARD
BEGIN:DAYLIGHT
TZOFFSETFROM:-0600
TZOFFSETTO:-0500
TZNAME:CDT
DTSTART:20240310T080000
END:DAYLIGHT
BEGIN:STANDARD
TZOFFSETFROM:-0500
TZOFFSETTO:-0600
TZNAME:CST
DTSTART:20241103T070000
END:STANDARD
END:VTIMEZONE
BEGIN:VEVENT
DTSTART;TZID=America/Chicago:20230803T173000
DTEND;TZID=America/Chicago:20230803T210000
DTSTAMP:20260421T212241
CREATED:20230716T170713Z
LAST-MODIFIED:20230719T195308Z
UID:10000044-1691083800-1691096400@collectiveeffortsunion.com
SUMMARY:ANDREW ROSE w/ ZACH DRESCH
DESCRIPTION:Andrew Rose is from Oklahoma whose material consists of one-liners\, and short stories about his life and the trials and tribulations of a crazy family and dating life of a 20 – something gives crowds a great experience to tell friends about. \n\n\n\n\n\n\n\n\n\n \n\n\n\n\n\nwith special guest Zach Dresch \n\n\n\n\n\n\n\nZach Dresch is a comedian born and raised in Sioux Falls\, South Dakota. He grew up a fan of sketch and stand up comedy\, citing groups like the Kids in the Hall and comedians such as Mitch Hedberg and Demetri Martin as huge influences. He performs in an improv troupe called Improv Falls and a dueling pianos group called Duel Purpose as their drummer. He also plays in multiple bands\, two of them being the active groups known as the Disarmed and Shock Value. He is most widely known as the Flu Bug on billboards and TV all across South Dakota. Most recently\, he can be seen on television across South Dakota as co-host of the talk show Late Night Boomin Saturdays after SNL on Dakota News Now. \nHosted by: Koerner \n \n\n\n \n\n\n\n \nKoerner has an upbeat and offbeat comedy style that has made him a rising favorite in the Sioux Falls comedy scene. He is a 3-time winner of Sioux Falls’ Funniest Comic and has recently performed in the Sno Jam Comedy Festival. \n \n\n\n\nThursday\, August 3rd \, 2023 \n\n\n\n7:00 PM – 9:00 PM CST \n\n\n\nDoors open at 5:30 for dinner and drinks! \n\n\n\nBoss’ Comedy Club \n\n\n\n215 S Main St \n\n\n\nTea\, SD 57064 \n\nFacebook event & more info
URL:https://collectiveeffortsunion.com/event/andrew-rose-w-zach-dresch/
LOCATION:Boss Comedy Club – Tea\, 215 S Main Ave\, Tea\, SD\, 57064\, United States
CATEGORIES:Comedy Shows
ATTACH;FMTTYPE=image/jpeg:https://collectiveeffortsunion.com/wp-content/uploads/2023/07/andrewroseweb.jpg
END:VEVENT
BEGIN:VEVENT
DTSTART;TZID=America/Chicago:20230804T170000
DTEND;TZID=America/Chicago:20230804T200000
DTSTAMP:20260421T212241
CREATED:20230703T165453Z
LAST-MODIFIED:20230708T011143Z
UID:10000031-1691168400-1691179200@collectiveeffortsunion.com
SUMMARY:TYLER FOWLER - FARGO
DESCRIPTION:Tyler Fowler’s witty brand of stand up comedy has made him a favorite around Chicago and across the US. Regularly appearing at Zanies Comedy Clubs and The Laugh Factory Chicago he was named among the ‘Best Of The Fest’ at the Cleveland Comedy Festival. Tyler’s debut album Friends With 401(k) Benefits premiered #1 on iTunes and Top 10 on the Billboard Comedy Charts and he recently recorded a special for Drybar Comedy. \n\n  \n\n\n\n \nw/ special guest: Claire Sundbye \n\n\n \n\n\n\n \nClaire Sundbye is a Chicago based comedian and producer.  Her animated\, quick-witted and conversational delivery-style is undeniably entertaining! Originally from Kansas\, Claire quickly became a regular at clubs all over the Chicago area including Laugh Factory\, Zanies\, Comedy Bar and Lincoln Lodge. Follow Claire on instagram\,@LilShrimpsnack\, to see clips\, upcoming dates and pictures of cute animals! \n \n\nFriday\, August 4th \, 2023 \n\n\n\n7:00 PM – 9:00 PM CST \n\n\n\nDoors open at 6:00 for dinner and drinks! \n\n\n\nBoss’ Comedy Club \n\n\n\n228 Broadway North \n\n\n\nFargo\, ND 58102 \n\nFacebook event & more info
URL:https://collectiveeffortsunion.com/event/tyler-fowler/
LOCATION:Boss Comedy Club – Fargo\, 228 Broadway North\, Fargo\, ND\, 58102\, United States
CATEGORIES:Comedy - Fargo,Comedy Shows
ATTACH;FMTTYPE=image/jpeg:https://collectiveeffortsunion.com/wp-content/uploads/2023/07/tylerfowler.jpg
END:VEVENT
BEGIN:VEVENT
DTSTART;TZID=America/Chicago:20230817T163000
DTEND;TZID=America/Chicago:20230817T200000
DTSTAMP:20260421T212241
CREATED:20230601T060915Z
LAST-MODIFIED:20230804T021348Z
UID:10000019-1692289800-1692302400@collectiveeffortsunion.com
SUMMARY:JEFF LEESON
DESCRIPTION:For over 23 years Jeff Leeson has been astonishing crowds across North America with his off the cuff\, improvisational style that leaves crowds not only wanting more\, but amazed at what they just witnessed. Combining traditional stand up comedy with long form improv\, Jeff creates a unique and personal experience for the audience each and every show. With over 50 Million Views of his stand up clips online Jeff is quickly becoming one of the most requested acts in North America! \n\n\n\nIn addition to headlining top comedy clubs and theaters throughout North America\, Jeff’s comedy has been featured on SiriusXM radio\, The Bob & Tom Show\, Spotify\, i-Tunes\, 2 Comedy specials on Amazon Prime\, a Dry Bar Comedy Special and Just released a New Special On Youtube called “Sorry I’m Not Kevin Hart” \n\n\n\nSpecial guests: TBA \n\n\n\nThursday\, August 17th\, 2023 \n\n\n\n7:00 PM – 9:00 PM CST \n\n\n\nDoors open at 5:30 for dinner and drinks! \n\n\n\nBoss’ Comedy Club \n\n\n\n215 S Main St \n\n\n\nTea\, SD 57064 \n\n\n\nFacebook RSVP and More Info
URL:https://collectiveeffortsunion.com/event/jeff-leeson/
LOCATION:Boss Comedy Club – Tea\, 215 S Main Ave\, Tea\, SD\, 57064\, United States
CATEGORIES:Comedy Shows
ATTACH;FMTTYPE=image/jpeg:https://collectiveeffortsunion.com/wp-content/uploads/2023/06/Sioux-Falls-Banner.jpg
END:VEVENT
BEGIN:VEVENT
DTSTART;TZID=America/Chicago:20230825T173000
DTEND;TZID=America/Chicago:20230825T210000
DTSTAMP:20260421T212241
CREATED:20230717T184456Z
LAST-MODIFIED:20230825T213626Z
UID:10000045-1692984600-1692997200@collectiveeffortsunion.com
SUMMARY:SEAN JORDAN
DESCRIPTION:Sean Jordan is a stand up comedian and podcaster who co-hosts the wildly popular podcast All Fantasy Everything and hosts the always-good-news podcast What’s Dank That I’m Stoked On. Sean also recently made his television debut on The Late Late Show with James Corden!Sean was named Portland’s Funniest Person by Willamette Week Magazine\, has written for Comedy Central\, and he was named one of the “Comics to Watch” by Splitsider Magazine. In 2019\, Sean charted at #2 on iTunes with the release of his debut stand up album The Buck Starts Here on A Special Thing Records. He is a regular guest and fan favorite on Doug Bensons’ podcast Doug Loves Movies\, and you may also have heard him on Professor Blastoff\, The Crabfeast\, Put Your Hands Together and Alison Rosen is Your Best Friend. Sean has performed in comedy festivals around the country\, including the High Plains Comedy Festival\, Bridgetown Comedy Festival and Sketch Fest in San Francisco. His stand up comedy has been described as “You get the sense this is sincerity\, not shtick. And so it’s not surprising Jordan is so popular with his peers in the scene—other comics\, club staff and promoters. His buoyancy can be hard to crack.” Besides sharing that positive attitude buoyancy\, Sean has recently been practicing how to swaddle his new daughter. Ask him for swaddle tips anytime. \n\n\n\n\nwith Alisha Rayne & TR Risk \nFriday\, August 25th \, 2023 \n7:00 PM – 9:00 PM CST \nDoors open at 5:30 for dinner and drinks! \nBoss’ Comedy Club \n215 S Main St \nTea\, SD 57064 \n\nFacebook event & more info
URL:https://collectiveeffortsunion.com/event/sean-jordan/
LOCATION:Boss Comedy Club – Tea\, 215 S Main Ave\, Tea\, SD\, 57064\, United States
CATEGORIES:Comedy Shows
ATTACH;FMTTYPE=image/jpeg:https://collectiveeffortsunion.com/wp-content/uploads/2023/07/seanjordanweb.jpg
END:VEVENT
BEGIN:VEVENT
DTSTART;TZID=America/Chicago:20230826T180000
DTEND;TZID=America/Chicago:20230826T223000
DTSTAMP:20260421T212241
CREATED:20230522T164332Z
LAST-MODIFIED:20230826T232016Z
UID:10000010-1693072800-1693089000@collectiveeffortsunion.com
SUMMARY:CLEAN JOKES FOR REGULAR FOLKS + AFTER DARK SHOW!
DESCRIPTION:The ‘Clean Jokes for Regular Folks’ comedy tour is a nationally-touring stand-up comedy show produced by Denver-based comedians Edward Bell\, Austin Black and Ben Dailey. The show features only clean comedy\, meaning no use of curse words or uncomfortable topics. Since the show only includes clean comedy\, does that mean the jokes are going to be corny? Absolutely not. Edward\, Austin and Ben talk about funny personal stories\, interesting observations\, and silly thoughts that are relatable and entertaining for everyone. \nEdward Bell is a stand up comedian originally from rural eastern Iowa\, now living in Colorado. He is a regular at the Comedy Works in Denver. He has written for the Hard Times. He has been featured in the High Plains Comedy Festival\, the Boston Comedy Festival\, and Alaska’s B4UDie Comedy Festival. He has had the pleasure of sharing the stage with big names like Nick Thune\, Adam Cayton-Holland\, and Steph Tolev. He used to live in a van\, but now he doesn’t. There were too many complaints. \nAustin Black is a comedian originally from Iowa and now resides in Denver\, Colorado. No one cares that in his six years of performing he has performed in multiple comedy festivals such as Denver Fringe\, Floodwater\, Green Gravel\, and finished top five in the “Funniest Person in Iowa Contest” at Penguin’s Comedy Club. He was also a finalist in the Clean Comedy Contest at Comedy Works. Austin is not a winner. Shortly before moving to Denver\, he had the opportunity to open for Theo Von. Austin’s parents have described his comedy as “I wish he would’ve graduated college.” \nOriginally from the East Coast\, Ben Dailey got his comedy start in Denver\, CO. After living abroad and struggling to navigate a new country and a different language\, Ben figured that telling jokes in front of a crowd probably couldn’t be any more embarrassing than accidentally telling a stranger on the street that he was pregnant. His comedy ranges from silly thoughts\, stories of his childhood\, and awkward situations that happen in his daily life. Ben has performed in comedy clubs and venues all across the Midwest. He was also a finalist on the show “Am I Funny?”; a made-up comedy competition held in the basement of his parent’s house. \nSECOND SHOW ADDED – Clean comedy not your thing? Come check out the Dirty Show at 9:30! The Dirty Show is an R-Rated comedy show featuring unfiltered and uncensored comedy\, best suited for late night audiences.  \nHosted by Alisha Rayne\n \nSaturday\, August 26th\, 2023 \n7:00 PM – 9:00 PM CST (Clean Jokes) \n9:30 PM – 11:30 PM CST (Dirty Show) \nDoors open at 5:30 for dinner and drinks! \nBoss’ Comedy Club \n215 S Main St \nTea\, SD 57064 \nFacebook RSVP – Clean Show \nFacebook RSVP – Dirty Show
URL:https://collectiveeffortsunion.com/event/clean-jokes-for-regular-folks/
LOCATION:Boss Comedy Club – Tea\, 215 S Main Ave\, Tea\, SD\, 57064\, United States
CATEGORIES:Comedy Shows
ATTACH;FMTTYPE=image/png:https://collectiveeffortsunion.com/wp-content/uploads/2023/05/clean-jokes.png
END:VEVENT
END:VCALENDAR