BEGIN:VCALENDAR
VERSION:2.0
PRODID:-//Collective Efforts Union - ECPv6.15.20//NONSGML v1.0//EN
CALSCALE:GREGORIAN
METHOD:PUBLISH
X-WR-CALNAME:Collective Efforts Union
X-ORIGINAL-URL:https://collectiveeffortsunion.com
X-WR-CALDESC:Events for Collective Efforts Union
REFRESH-INTERVAL;VALUE=DURATION:PT1H
X-Robots-Tag:noindex
X-PUBLISHED-TTL:PT1H
BEGIN:VTIMEZONE
TZID:America/Chicago
BEGIN:DAYLIGHT
TZOFFSETFROM:-0600
TZOFFSETTO:-0500
TZNAME:CDT
DTSTART:20220313T080000
END:DAYLIGHT
BEGIN:STANDARD
TZOFFSETFROM:-0500
TZOFFSETTO:-0600
TZNAME:CST
DTSTART:20221106T070000
END:STANDARD
BEGIN:DAYLIGHT
TZOFFSETFROM:-0600
TZOFFSETTO:-0500
TZNAME:CDT
DTSTART:20230312T080000
END:DAYLIGHT
BEGIN:STANDARD
TZOFFSETFROM:-0500
TZOFFSETTO:-0600
TZNAME:CST
DTSTART:20231105T070000
END:STANDARD
BEGIN:DAYLIGHT
TZOFFSETFROM:-0600
TZOFFSETTO:-0500
TZNAME:CDT
DTSTART:20240310T080000
END:DAYLIGHT
BEGIN:STANDARD
TZOFFSETFROM:-0500
TZOFFSETTO:-0600
TZNAME:CST
DTSTART:20241103T070000
END:STANDARD
END:VTIMEZONE
BEGIN:VEVENT
DTSTART;TZID=America/Chicago:20230915T173000
DTEND;TZID=America/Chicago:20230915T210000
DTSTAMP:20260421T200536
CREATED:20230703T175734Z
LAST-MODIFIED:20230818T175451Z
UID:10000034-1694799000-1694811600@collectiveeffortsunion.com
SUMMARY:JERRY IRBY w/ THOMAS PAUL & TR RISK
DESCRIPTION:Jerry Irby began his comedy career in early 2020. Since then\, he has been a 4-time winner of the Larry Brinkman Award(Sioux Falls Funniest Comedian) and is a constant crowd favorite. Has most recently performed at the Sno Jane Comedy  Festival. Has worked with Day Peace\, Skyler Bolks\, and Nathan Hults. He can normally be found performing at Boss Comedy Club in Sioux Falls SD. \n\n\n\n\n\n\n\nwith special guests Thomas Paul & TR Risk \n\n\n\n\n\n\n\nThomas Paul is a father of two from Sioux Falls SD. This multi award winning comedian travels the Midwest\, bringing a combination of observational and musical comedy. \n\n\n\n\n\n\n\nA self-described “person\,” TR Risk is a Sioux Falls comic new to the scene. Oddball quips\, one-liners\, and self-deprecating humor are staples of his comedy. When not doing comedy\, TR does disability-aware product reviews on YouTube. And yes\, he is lactose intolerant!\n\n \nFriday\, September 15th \, 2023\n\n \n7:00 PM – 9:00 PM CST\n\n \nDoors open at 5:30 for dinner and drinks!\n\n \nBoss’ Comedy Club\n\n \n215 S Main St\n\n \nTea\, SD 57064 \n\nFacebook event & more info
URL:https://collectiveeffortsunion.com/event/jerry-irby/
LOCATION:Boss Comedy Club – Tea\, 215 S Main Ave\, Tea\, SD\, 57064\, United States
CATEGORIES:Comedy Shows
ATTACH;FMTTYPE=image/jpeg:https://collectiveeffortsunion.com/wp-content/uploads/2023/07/jerrry-boss.jpg
END:VEVENT
BEGIN:VEVENT
DTSTART;TZID=America/Chicago:20230929T210000
DTEND;TZID=America/Chicago:20230929T233000
DTSTAMP:20260421T200536
CREATED:20230707T035245Z
LAST-MODIFIED:20230922T045114Z
UID:10000038-1696021200-1696030200@collectiveeffortsunion.com
SUMMARY:ALEX HOOPER FROM AGT!
DESCRIPTION:Alex Hooper is a stand-up comedian\, actor\, and all around magical sprite. He delights crowds by blending dark humor with silly positivity. His joke writing is clever and fearless. Onstage he bursts with energy. Alex shines just like his sparkly wardrobe. He’s headlined clubs all over the world. And whether it’s an audience of 11 or 11\,000\, Alex leaves comedy goers begging for more. Alex is best known as the America’s Got Talent comedian who infamously roasted the judging panel in 2018.  He’s the only contestant ever to get a “yes” from Simon Cowell and a “no” from the rest of the judges. His audition went viral and in 2020 he was invited back again\, this time making it all the way to the live shows. In total\, his performances have over 100 million views. He has two albums that have both hit Number 1 on Itunes and Amazon. Other credits include Comedy Central’s Roast Battle\, Corporate\, New Girl\, and Nickelodeon. His hilarious self-help book\, Roast Yourself To Happiness\, is available on Amazon. He’s been seen in sitcoms\, commercials\, and walking on tightropes in the park. \n\n\n\n\n\nwith William Conway & Preston Williams \n\n  \n\n\n\n  \n\nYour Host for the Show is a Veteran of Sioux Falls Comedy. Winner of the Larry Brinkman Award\, The Dope Comedy Comedian Competition in Dallas\, TX and a Finalist in the Sioux Falls Edition of Last Comic Standing.  His one of kind Stories will really help set the tone for what will be a Great Night of Uproarious Laughter \n \nPreston Williams is a young\, energetic comedian from a small town in the midwest. Even though he is only 26\, Preston has performed on stages from North Dakota to California in his 5 years of comedy and has opened for names such as Kevin Farley\, Timmy Williams and Ray DeVito and always brings a great show to any size stage he performs on. His story-centered comedy always makes for an entertaining show. \n\nFriday\, September 29th \, 2023 \n9:00 PM – 11:30 PM CST \nIcon Lounge | Dada Gastropub – 402 N Main DTSF \nFacebook event & more info
URL:https://collectiveeffortsunion.com/event/alex-hooper/
LOCATION:Icon Event Hall – Sioux Falls\, 402 N Main Ave\, Sioux Falls\, SD\, 57104\, United States
CATEGORIES:Comedy Shows
ATTACH;FMTTYPE=image/jpeg:https://collectiveeffortsunion.com/wp-content/uploads/2023/07/alexhooper-web.jpg
END:VEVENT
BEGIN:VEVENT
DTSTART;TZID=America/Chicago:20230930T170000
DTEND;TZID=America/Chicago:20230930T200000
DTSTAMP:20260421T200536
CREATED:20230707T042551Z
LAST-MODIFIED:20230707T042551Z
UID:10000039-1696093200-1696104000@collectiveeffortsunion.com
SUMMARY:ALEX HOOPER FROM AGT! - FARGO
DESCRIPTION:Alex Hooper is a stand-up comedian\, actor\, and all around magical sprite. He delights crowds by blending dark humor with silly positivity. His joke writing is clever and fearless. Onstage he bursts with energy. Alex shines just like his sparkly wardrobe. He’s headlined clubs all over the world. And whether it’s an audience of 11 or 11\,000\, Alex leaves comedy goers begging for more. Alex is best known as the America’s Got Talent comedian who infamously roasted the judging panel in 2018.  He’s the only contestant ever to get a “yes” from Simon Cowell and a “no” from the rest of the judges. His audition went viral and in 2020 he was invited back again\, this time making it all the way to the live shows. In total\, his performances have over 100 million views. He has two albums that have both hit Number 1 on Itunes and Amazon. Other credits include Comedy Central’s Roast Battle\, Corporate\, New Girl\, and Nickelodeon. His hilarious self-help book\, Roast Yourself To Happiness\, is available on Amazon. He’s been seen in sitcoms\, commercials\, and walking on tightropes in the park. \n\n\n\n\nwith Sara Manson \n\nSara Manson is new to comedy but not the scene!  Sara has been working with local performers for many years managing bands\, hosting a radio show\, and doing Hospitality for touring artists at The District\, The Washington Pavilion and Sioux Empire Fair. She acts with Dinner Detective\, The Premier Playhouse and The Mighty Corson Art Players. She’ll keep you laughing with funny stories about celebrities\, squirrels and her banana collection. \nSaturday\, September 30th \, 2023 \n7:00 PM – 9:00 PM CST \nDoors open at 6:00 for dinner and drinks! \nBoss’ Comedy Club \n228 Broadway North \nFargo\, ND 58102 \nFacebook event & more info
URL:https://collectiveeffortsunion.com/event/alex-hooper-fargo/
LOCATION:Boss Comedy Club – Fargo\, 228 Broadway North\, Fargo\, ND\, 58102\, United States
CATEGORIES:Comedy - Fargo,Comedy Shows
ATTACH;FMTTYPE=image/jpeg:https://collectiveeffortsunion.com/wp-content/uploads/2023/07/alexhooper-web.jpg
END:VEVENT
END:VCALENDAR