BEGIN:VCALENDAR
VERSION:2.0
PRODID:-//Collective Efforts Union - ECPv6.15.20//NONSGML v1.0//EN
CALSCALE:GREGORIAN
METHOD:PUBLISH
X-WR-CALNAME:Collective Efforts Union
X-ORIGINAL-URL:https://collectiveeffortsunion.com
X-WR-CALDESC:Events for Collective Efforts Union
REFRESH-INTERVAL;VALUE=DURATION:PT1H
X-Robots-Tag:noindex
X-PUBLISHED-TTL:PT1H
BEGIN:VTIMEZONE
TZID:America/Chicago
BEGIN:DAYLIGHT
TZOFFSETFROM:-0600
TZOFFSETTO:-0500
TZNAME:CDT
DTSTART:20220313T080000
END:DAYLIGHT
BEGIN:STANDARD
TZOFFSETFROM:-0500
TZOFFSETTO:-0600
TZNAME:CST
DTSTART:20221106T070000
END:STANDARD
BEGIN:DAYLIGHT
TZOFFSETFROM:-0600
TZOFFSETTO:-0500
TZNAME:CDT
DTSTART:20230312T080000
END:DAYLIGHT
BEGIN:STANDARD
TZOFFSETFROM:-0500
TZOFFSETTO:-0600
TZNAME:CST
DTSTART:20231105T070000
END:STANDARD
BEGIN:DAYLIGHT
TZOFFSETFROM:-0600
TZOFFSETTO:-0500
TZNAME:CDT
DTSTART:20240310T080000
END:DAYLIGHT
BEGIN:STANDARD
TZOFFSETFROM:-0500
TZOFFSETTO:-0600
TZNAME:CST
DTSTART:20241103T070000
END:STANDARD
END:VTIMEZONE
BEGIN:VEVENT
DTSTART;TZID=America/Chicago:20231010T180000
DTEND;TZID=America/Chicago:20231010T210000
DTSTAMP:20260421T184638
CREATED:20230731T190031Z
LAST-MODIFIED:20231009T161426Z
UID:10000046-1696960800-1696971600@collectiveeffortsunion.com
SUMMARY:BEN BAILEY FROM CASH CAB!
DESCRIPTION:Comedian Ben Bailey drove the smash hit series “Cash Cab” (still in syndication around the world) for over 550 episodes\, earning multiple Daytime Emmy Awards. In the years before becoming “the Cash Cab guy\,” he performed around the world\, starring in two Comedy Central specials. He also released “Road Rage and Accidental Ornithology” in 2011 and “Ben Bailey: Live and Uncensored” in 2016.\n\nBailey has appeared on “”The Tonight Show\,” ”The Today Show\,” “The Oprah Winfrey Show\,” “Rachel Ray” and virtually every major morning show (TV and radio) in the country. He’s has appeared in numerous TV shows including “MADtv\,” “Tough Call with Colin Quinn\,” “30 Rock\,” “Blue Bloods\,” “Parenthood\,” “Law and Order SVU\,” “Perpetual Grace\,” “Unforgettable\,” “Hope & Faith\,” “The Knights of Prosperity” and “One life to Live\,” as well as several films including “Bad Parents\,” “Don’t Shoot the Pharmacist” and “Bad Meat.”\n\nSee him here on October 10 at 7 p.m.! In the meantime\, catch snippets of his stand-up comedy on his YouTube channel @BenBaileyComedy!\n\nFeaturing: Neil Rubenstein\, Nathan Hults & Zach Dresch!\nHosted by Sara Manson\n\nComedian Neil Rubenstein is a burly\, tattooed guy who plays against type; kind\, cerebral\, but still casually mentions past illegal activities (running a poker room\, owning a brothel\, etc.) the way one might reference a Renaissance Lit course you took in college. He took 1st Place at the 2023 World Series of Comedy Louisville Satellite and had several appearances on SiriusXM podcasts.\n\nNathan Hults is the epitome of “Male Pattern Boldness”.  Performing since the age of 7\, he has perfected his positive and high energy storytelling with quick wit and audience interaction. Never aggression always adoreable. A stand-up comedian\, actor\, and producer\, Nathan\, has performed in Auditoriums\, Bars\, Comedy Clubs\, and Drafthouses across the country.\n\nZach Dresch is a comedian based out of Sioux Falls\, South Dakota. He is perhaps best known as the Flu Bug on billboards and TV\, as well as his work in the improv troupe Improv Falls and his role as co-host on the local talk show Late Night Boomin. Also a drummer\, he plays in the bands the Disarmed and Shock Value\, and combines music and comedy in the dueling pianos group Duel Purpose. He can weekly be seen hosting trivia at Fernson Downtown\, and can be seen performing around the country.\n\nTuesday\, October 10th \, 2023\n\n7:00 PM – 9:00 PM CST\n\nDoors open at 6:30\n\nSioux Falls Orpheum\n\n315 N Phillips\n\nSioux Falls\, SD\n\nFacebook event & more info\n\nBUY TICKETS
URL:https://collectiveeffortsunion.com/event/ben-bailey-from-cash-cab/
LOCATION:Sioux Falls Orpheum\, 315 N Phillips\, Sioux Falls\, 57104
CATEGORIES:Comedy Shows
ATTACH;FMTTYPE=image/jpeg:https://collectiveeffortsunion.com/wp-content/uploads/2023/07/BenBailey_admat-1.jpg
END:VEVENT
BEGIN:VEVENT
DTSTART;TZID=America/Chicago:20231014T170000
DTEND;TZID=America/Chicago:20231014T200000
DTSTAMP:20260421T184638
CREATED:20230615T000820Z
LAST-MODIFIED:20231009T163242Z
UID:10000025-1697302800-1697313600@collectiveeffortsunion.com
SUMMARY:DAVID KOUSGAARD - FARGO
DESCRIPTION:Growing up in the small town of Carter Lake\, Iowa\, David developed a love of stand-up comedy from an early age. After he finally gave it a try in college\, he immediately developed a passion for performing\, but he waited to fully pursue that passion until after his graduation from the University of Nebraska – Omaha. Since then\, his sole focus has been to make people laugh. \nStill in Omaha\, Nebraska\, David has entertained and delighted many crowds at breweries\, comedy clubs\, and festivals across the country. His humor focuses mostly on anecdotes and observations about a variety of topics including his marriage\, life in the Midwest\, and growing up religious. He’ll even throw the occasional dark joke in there to keep you on your toes. \n\nIn 2016\, his stand-up was featured on “Omaha Live!” on the Omaha NBC affiliate\, in 2019 he was featured on “Oma-Ha!” on KPAO in Omaha. David was brought on as a host of The World Series of Comedy from 2021- 2023. In 2023 David was also featured in Cracked.com’s list of “Jokes Everybody Should Know From Unknown Comics.”  \n\nwith special guest Ethan Abramson \nEthan Abramson is a rising star in the Nebraska comedy scene\, known for his magnetic stage presence and ability to connect with audiences. A regular performer at the Omaha Funny Bone\, he has shared the stage with top comedians such as Josh Blue\, Nick Griffin\, and Andy Woodhull. Ethan’s quick-witted humor and chaotic crowdwork have delighted  audiences across the Midwest. With his contagious energy\, unique style and talent\, Ethan Abramson is definitely a comedian to watch out for in the Good Life state and beyond. \n\nWith host Dylan Gronlund & local comedian Matt Smith  \nSaturday\, October 14th \, 2023 \n7:00 PM – 9:00 PM CST \nDoors open at 6:00 for dinner and drinks! \nBoss’ Comedy Club \n228 Broadway North \nFargo\, ND 58102 \nFacebook event & more info
URL:https://collectiveeffortsunion.com/event/david-k-fargo/
LOCATION:Boss Comedy Club – Fargo\, 228 Broadway North\, Fargo\, ND\, 58102\, United States
CATEGORIES:Comedy - Fargo,Comedy Shows
ATTACH;FMTTYPE=image/png:https://collectiveeffortsunion.com/wp-content/uploads/2023/06/DAVIDK.png
END:VEVENT
BEGIN:VEVENT
DTSTART;TZID=America/Chicago:20231022T163000
DTEND;TZID=America/Chicago:20231022T200000
DTSTAMP:20260421T184638
CREATED:20230523T231036Z
LAST-MODIFIED:20231020T144349Z
UID:10000016-1697992200-1698004800@collectiveeffortsunion.com
SUMMARY:MICHAEL PALASCAK - FARGO
DESCRIPTION:Michael Palascak is a comedian who grew up in Indiana and now lives in LA.  He performed on both The Late Late Show with James Corden and The Late Show with Stephen Colbert in the same year.   He has over 1 million views on YouTube.  In addition\, his resume includes A Little Late with Lilly Singh\, The Tonight Show\, Letterman\, Craig Ferguson\, Conan\, has a Comedy Central Half Hour special\, and was a Top 5 Finalist on Last Comic Standing where one judge claimed\, “My first impression of Michael was a great likability.  This is a guy that could star in a sitcom.”  Michael’s likability allows him to relate to his audiences in a real way which sets up the huge laughs he gets from his sharp\, personal material.  Consistently writing and performing\, this summer Michael released both a new album— The Internet Live through 800 Pound Gorilla and a new stand-up special on the Dry Bar app— 1984.  Available for free streaming.  Drew Hunt of The Chicago Reader wrote about Michael\, “In a lot of ways\, he represents the ideal antidote to the sort of unbridled cynicism that pervades much of contemporary stand-up.”  Michael’s optimism continues in the new National Lampoon series — The Bright Side where he takes a positive stance on a negative topic streaming on YouTube.   http://www.michaelpalascak.com \nWith special guest Greg Hobbs & hosted by Dylan Gronlund\n\n \n\nSunday\, October 22nd \, 2023 \n7:00 PM – 9:00 PM CST \nDoors open at 6:00 for dinner and drinks! \nBoss’ Comedy Club \n228 Broadway North Fargo\, ND 58102
URL:https://collectiveeffortsunion.com/event/michael-palascak-fargo/
LOCATION:Boss Comedy Club – Fargo\, 228 Broadway North\, Fargo\, ND\, 58102\, United States
CATEGORIES:Comedy - Fargo,Comedy Shows
ATTACH;FMTTYPE=image/jpeg:https://collectiveeffortsunion.com/wp-content/uploads/2023/05/102223-MichaelPalascak-scaled.jpg
END:VEVENT
BEGIN:VEVENT
DTSTART;TZID=America/Chicago:20231026T210000
DTEND;TZID=America/Chicago:20231026T233000
DTSTAMP:20260421T184638
CREATED:20230703T174017Z
LAST-MODIFIED:20231023T204405Z
UID:10000033-1698354000-1698363000@collectiveeffortsunion.com
SUMMARY:Bring DAVID GBORIE a plate!
DESCRIPTION:David Gborie is a comedian\, writer\, voice actor and all-around thorough dude originally from Denver\, Colorado. He has appeared on NBC’s AP Bio\, TBS’s Chad\, and can currently be heard as the voice of Comedy Central. \n\n\n\nHe is the co-host of the wildly popular All Fantasy Everything podcast and was featured in the adult swim animated series Royal Crackers and the star-studded music video for George Harrison’s My Sweet Lord. \n\n\n\n\n\n\n\nDavid will soon be seen in Netflix’s animated series Exploding Kittens produced by Mike Judge and Greg Daniels and AppleTV’s The Instigators\, starring Casey Affleck and Jack Harlow. \n\n\n\nDavid Gborie is outside hoe! This fall David is hitting the road to bring his hour to the cities that have been blowing his phone up asking him to stop by so they can bring him a plate of food. Does Sioux Falls really have the best Chislic? What exactly is Scrapple? Come out to the Aluminum Foil tour this fall and bring David a plate. If it’s the best in your city\, you could find yourself posted on his IG account (but not on Twitter\, you guys blew it). \n\n\n\nwith special guests Brian Sullivan & TN Tymes \n\n\n\n\n\n\n\nBrian Sullivan’s comedy journey is like a wild rollercoaster ride through an amusement park of life experiences. After a career in the Army and a detour into cage fighting (because\, why not?)\, he discovered that making people laugh was a lot less painful and a lot more fun. \n\n\n\n\n\n\n\n\n\nTN Tymes\, also goes by Dylan Tymes\, is an indigenous and independent comedian\, host\, podcaster\, professional wrestler\, promoter\, and referee. He puts on showcases and open mics in the Sioux Falls area at La Carreta Bar\, Windy City Bites\, and coming soon Black Flag Studios. He’s also in training with Flagship Pro Wrestling to become a pro wrestler\, his lifelong dream and passion. He is the host of many things including his podcast TN Tymes Show. \nHosted by Big John Small \n \nJohn has been a FAN of comedy his whole life\, but he first climbed on stage during an OPEN MIC contest in Sioux Falls in 2009. He competed against 15 other comics and John walked away with 1st place. Since then he’s had the opportunity to work with some of his favorite comics as the MC and host for Bob Newhart\, Bill Engval\, Dennis Regan\, Frank Caliendo\, Joe Gatto and the late Bob Saget. \n\n\n\nThursday\, October 26th \, 2023 \n\n\n\n9:00 PM – 11:00 PM CST \n\n\n\nIcon Lounge | Dada Gastropub \n\n\n\n402 N Main #dtsf \n\n\n\nFacebook event & more info \n \n\n\n\n\n\n\n\n** All seating first-come first-serve
URL:https://collectiveeffortsunion.com/event/david-gborie/
LOCATION:Icon Event Hall – Sioux Falls\, 402 N Main Ave\, Sioux Falls\, SD\, 57104\, United States
CATEGORIES:Comedy Shows
ATTACH;FMTTYPE=image/png:https://collectiveeffortsunion.com/wp-content/uploads/2023/07/DavidGborieWeb.png
END:VEVENT
BEGIN:VEVENT
DTSTART;TZID=America/Chicago:20231027T203000
DTEND;TZID=America/Chicago:20231027T233000
DTSTAMP:20260421T184638
CREATED:20230703T184116Z
LAST-MODIFIED:20231020T042341Z
UID:10000035-1698438600-1698449400@collectiveeffortsunion.com
SUMMARY:MONICA NEVI
DESCRIPTION:Monica Nevi is a native of Washington State\, having grown up about 20 minutes south of Seattle\, in the glory of Renton\, Washington. A collegiate basketball player\, after injuries ended her career she decided to pursue her strong interest in stand-up comedy. Years later\, Monica is an internationally touring standup comedian\, performing in festivals\, clubs and colleges all over. She created\, produced and hosts the documentary series called ‘80 For 80.’ She has been seen on FOX’s Laughs TV Show and ESPN’s SportsCenter. She debuted two albums in late 2020 within one month of each other. Her first standup album\, Mostly Finger Guns followed by her debut comedic guided meditation album\, Chill. Both went #1 on the comedy charts. Her debut special “Big Stepdad Energy” was filmed in Philadelphia with Helium Comedy Studios and released in October 2022. It was voted top 50 specials of the year by We Own The Laughs magazine. You can also find her weekly podcast “Dumb Pitches” on the Helium Podcast Network.  \n\n\n\n\n\n\n\nwith special guests TR Risk & hosted by Eric the Green \n\n\n\n\n\n\n\nA self-described “person\,” TR Risk is a Sioux Falls comic new to the scene. Oddball quips\, one-liners\, and self-deprecating humor are staples of his comedy. When not doing comedy\, TR does disability-aware product reviews on YouTube. And yes\, he is lactose intolerant! \n\n\n\n\n\n\n\nEric the Green\, originally from Louisvile Kentucky\, currently based out of Sioux Falls South Dakota. He is the muliple time winner of the prestigious Larry Brinkman comedy award for funniest comic (of the month). His comedic style is a bit of a grab bag of Observational comedy\, story telling\, and somewhat racially charged rants and raves \n\n\n\nFriday\, October 27th \, 2023 \n\n\n\n9:00 PM – 11:00 PM CST \n\n\n\nDoors open at 8:30 \n\n\n\nBlack Flag Studios \n\n\n\n2301 W Madison Ave – Sioux Falls \n\n\n\nFacebook event & more info \n\n\n\n\n\n** All seating first-come first-serve
URL:https://collectiveeffortsunion.com/event/monica-nevi/
LOCATION:Black Flag Studios – Sioux Falls\, 2301 w Madison Ave\, SIOUX FALLS\, SD\, 57104\, United States
CATEGORIES:Comedy Shows
ATTACH;FMTTYPE=image/jpeg:https://collectiveeffortsunion.com/wp-content/uploads/2023/07/MonicaNeviSF.jpg
END:VEVENT
BEGIN:VEVENT
DTSTART;TZID=America/Chicago:20231028T170000
DTEND;TZID=America/Chicago:20231028T200000
DTSTAMP:20260421T184638
CREATED:20230703T203533Z
LAST-MODIFIED:20230706T013904Z
UID:10000037-1698512400-1698523200@collectiveeffortsunion.com
SUMMARY:MONICA NEVI - FARGO
DESCRIPTION:Monica Nevi is a native of Washington State\, having grown up about 20 minutes south of Seattle\, in the glory of Renton\, Washington. A collegiate basketball player\, after injuries ended her career she decided to pursue her strong interest in stand-up comedy. Years later\, Monica is an internationally touring standup comedian\, performing in festivals\, clubs and colleges all over. She created\, produced and hosts the documentary series called ‘80 For 80.’ She has been seen on FOX’s Laughs TV Show and ESPN’s SportsCenter. She debuted two albums in late 2020 within one month of each other. Her first standup album\, Mostly Finger Guns followed by her debut comedic guided meditation album\, Chill. Both went #1 on the comedy charts. Her debut special “Big Stepdad Energy” was filmed in Philadelphia with Helium Comedy Studios and released in October 2022. It was voted top 50 specials of the year by We Own The Laughs magazine. You can also find her weekly podcast “Dumb Pitches” on the Helium Podcast Network.  \n\nSaturday\, October 28th \, 2023 \n7:00 PM – 9:00 PM CST \nDoors open at 6:00 for dinner and drinks! \nBoss’ Comedy Club \n228 Broadway North \nFargo\, ND 58102 \nFacebook event & more info
URL:https://collectiveeffortsunion.com/event/monica-nevi-fargo-2/
LOCATION:Boss Comedy Club – Fargo\, 228 Broadway North\, Fargo\, ND\, 58102\, United States
CATEGORIES:Comedy - Fargo,Comedy Shows
ATTACH;FMTTYPE=image/jpeg:https://collectiveeffortsunion.com/wp-content/uploads/2023/07/MonicaNevi-web.jpg
END:VEVENT
END:VCALENDAR