BEGIN:VCALENDAR
VERSION:2.0
PRODID:-//Collective Efforts Union - ECPv6.15.20//NONSGML v1.0//EN
CALSCALE:GREGORIAN
METHOD:PUBLISH
X-WR-CALNAME:Collective Efforts Union
X-ORIGINAL-URL:https://collectiveeffortsunion.com
X-WR-CALDESC:Events for Collective Efforts Union
REFRESH-INTERVAL;VALUE=DURATION:PT1H
X-Robots-Tag:noindex
X-PUBLISHED-TTL:PT1H
BEGIN:VTIMEZONE
TZID:America/Chicago
BEGIN:DAYLIGHT
TZOFFSETFROM:-0600
TZOFFSETTO:-0500
TZNAME:CDT
DTSTART:20230312T080000
END:DAYLIGHT
BEGIN:STANDARD
TZOFFSETFROM:-0500
TZOFFSETTO:-0600
TZNAME:CST
DTSTART:20231105T070000
END:STANDARD
BEGIN:DAYLIGHT
TZOFFSETFROM:-0600
TZOFFSETTO:-0500
TZNAME:CDT
DTSTART:20240310T080000
END:DAYLIGHT
BEGIN:STANDARD
TZOFFSETFROM:-0500
TZOFFSETTO:-0600
TZNAME:CST
DTSTART:20241103T070000
END:STANDARD
BEGIN:DAYLIGHT
TZOFFSETFROM:-0600
TZOFFSETTO:-0500
TZNAME:CDT
DTSTART:20250309T080000
END:DAYLIGHT
BEGIN:STANDARD
TZOFFSETFROM:-0500
TZOFFSETTO:-0600
TZNAME:CST
DTSTART:20251102T070000
END:STANDARD
END:VTIMEZONE
BEGIN:VEVENT
DTSTART;TZID=America/Chicago:20240301T190000
DTEND;TZID=America/Chicago:20240301T210000
DTSTAMP:20260421T091928
CREATED:20231025T183250Z
LAST-MODIFIED:20240226T051536Z
UID:10000051-1709319600-1709326800@collectiveeffortsunion.com
SUMMARY:RYAN NIEMILLER FROM AGT @ ICON
DESCRIPTION:You may know Ryan Niemiller as the disarmingly handsome comedian and 3rd place finalist from America’s Got Talent Season 14. Despite being bornwith a disability in both arms\, Ryan\, the self-proclaimed “Cripple Threat of Comedy”\, shares his views of the world from the perspective of thehandicapped (and very handsome). \nRyan began his comedy career in Los Angeles\, California\, and hasn’t looked back since. He’s a favorite performer in clubs and colleges across the country.His comedy covers topics such as dating\, trying to find employment and attempting to find acceptance in a world not designed for him. \n \nWith his quick wit\, good looks\, great timing\, and a gimmick that only he canexploit\, Ryan hopes to prove to the comedy world that he may be unarmed\,but he is dangerous. And handsome – in case you missed it the first three times. \nw/ special guests: Koerner & Adam GoodgeHosted by Sara Manson \n \nKoerner has been making audiences laugh since 2019 with high-energy\, offbeat\, absurdist comedy. A Sno Jam Comedy Festival alum and three-time winner of Sioux Falls’ Larry Brinkman Award\, Koerner blends comedy with a passion for niche subcultures like anime and wrestling for a delightfully unique comedic experience. \nFriday\, March 1st \, 20247:00 PM – 9:00 PM CST \n\n\n\n\n\nIcon Event Hall402 N Main #dtsf \n\n\n\n\n\nFacebook event & more info \n\n\n\n\n\n\n\n** All seating first-come first-serve** Premier seating is front 2 rows
URL:https://collectiveeffortsunion.com/event/ryan-niemiller-from-agt-icon/
LOCATION:Icon Event Hall – Sioux Falls\, 402 N Main Ave\, Sioux Falls\, SD\, 57104\, United States
CATEGORIES:Comedy Shows,Featured Event
ATTACH;FMTTYPE=image/jpeg:https://collectiveeffortsunion.com/wp-content/uploads/2023/10/RyanNiemiller-sm.jpg
END:VEVENT
BEGIN:VEVENT
DTSTART;TZID=America/Chicago:20240302T190000
DTEND;TZID=America/Chicago:20240302T220000
DTSTAMP:20260421T091928
CREATED:20231209T032755Z
LAST-MODIFIED:20240226T050615Z
UID:10000076-1709406000-1709416800@collectiveeffortsunion.com
SUMMARY:DEREK LUNA - FARGO
DESCRIPTION:Derek Luna lived in Los Angeles for a decade\, where he performed at the Comedy Store and hosted his own show at the Hollywood Improv. He is touring out of the Midwest and in the Last year he’s featured for Caroline Rhea\, Erik Griffin\, Dusty Slay\, Kevin Nealon\, Tim Meadows\, Brian Posehn and many more. He was selected to perform at the World Series of Comedy Top40 satellite\, and was shortly after hired on as touring MC for the 2024 WSOC season. Derek has been a Headline Comic for BarComedy USA’s Pub&Grub Tour for over a year\, headlining shows in 30 out of 50 States in 2023. \n \n\n\n\n\n\n\nHost – Bradley FosterGuest – Bethany AbelnFeature – Nate Roe \nSaturday\, March 2nd\, 20248:00 PM – 10:00 PM CSTDoors open at 7:00 for dinner and drinks! \n\n\n\n\n\n\n\nBoss’ Comedy Club228 Broadway NorthFargo\, ND 58102 \nFacebook event & more info
URL:https://collectiveeffortsunion.com/event/derek-luna-fargo/
LOCATION:Boss Comedy Club – Fargo\, 228 Broadway North\, Fargo\, ND\, 58102\, United States
CATEGORIES:Comedy - Fargo,Comedy Shows
ATTACH;FMTTYPE=image/jpeg:https://collectiveeffortsunion.com/wp-content/uploads/2023/12/derekluna2.jpeg
END:VEVENT
BEGIN:VEVENT
DTSTART;TZID=America/Chicago:20240308T203000
DTEND;TZID=America/Chicago:20240308T220000
DTSTAMP:20260421T091928
CREATED:20231208T140013Z
LAST-MODIFIED:20240126T164254Z
UID:10000074-1709929800-1709935200@collectiveeffortsunion.com
SUMMARY:ROAD TRIP COMEDY TOUR @ BLACK FLAG
DESCRIPTION:Layton and Levi are going across America to anywhere that needs laughs and is willing to pay them. These two comedians have worked together on multiple tours and have been seen in 100+cities and 22 states together. They have worked with comedians such as Kevin Farley\, Shayne Smith \, Preston Lacy\, Brian Bates\, Dustin Sims\, and many others. Layton was even featured on the “Duck Call Room” with Uncle Si Robertson. These two comedians have very different styles\, but when our on the same show\, may get a little wild.\n \n\n\n\n\n\nhttps://linktr.ee/roadtripcomedy \n \n  \n \nHosted by Sara Manson \nFriday\, March 8th \, 20249:00 PM – 11:00 PM CSTDoors open at 8:30 \n\n\n\n\n\n\n\nBlack Flag Studios2301 W Madison Ave – Sioux Falls \n\n\n\n\n\nFacebook event & more info \n\n\n\n\n\n** All seating first-come first-serve
URL:https://collectiveeffortsunion.com/event/road-trip-comedy-tour-black-flag/
LOCATION:Black Flag Studios – Sioux Falls\, 2301 w Madison Ave\, SIOUX FALLS\, SD\, 57104\, United States
CATEGORIES:Comedy Shows
ATTACH;FMTTYPE=image/jpeg:https://collectiveeffortsunion.com/wp-content/uploads/2023/12/1701305448494.jpg
END:VEVENT
BEGIN:VEVENT
DTSTART;TZID=America/Chicago:20240309T190000
DTEND;TZID=America/Chicago:20240309T220000
DTSTAMP:20260421T091928
CREATED:20231208T155724Z
LAST-MODIFIED:20240223T214444Z
UID:10000075-1710010800-1710021600@collectiveeffortsunion.com
SUMMARY:ROAD TRIP COMEDY TOUR - FARGO
DESCRIPTION:Layton and Levi are going across America to anywhere that needs laughs and is willing to pay them. These two comedians have worked together on multiple tours and have been seen in 100+cities and 22 states together. They have worked with comedians such as Kevin Farley\, Shayne Smith \, Preston Lacy\, Brian Bates\, Dustin Sims\, and many others. Layton was even featured on the “Duck Call Room” with Uncle Si Robertson. These two comedians have very different styles\, but when our on the same show\, may get a little wild.\n \n\n\n\n\n\nhttps://linktr.ee/roadtripcomedy \n \n  \n \n  \n  \nwith special guests TBA \nSaturday\, March 9th\, 20248:00 PM – 10:00 PM CST \n\n\n\n\n\n\n\nDoors open at 7:00 for dinner and drinks! \nBoss’ Comedy Club228 Broadway NorthFargo\, ND 58102 \nFacebook event & more info
URL:https://collectiveeffortsunion.com/event/road-trip-comedy-tour-fargo/
LOCATION:Boss Comedy Club – Fargo\, 228 Broadway North\, Fargo\, ND\, 58102\, United States
CATEGORIES:Comedy - Fargo,Comedy Shows
ATTACH;FMTTYPE=image/jpeg:https://collectiveeffortsunion.com/wp-content/uploads/2023/12/1701305448494.jpg
END:VEVENT
BEGIN:VEVENT
DTSTART;TZID=America/Chicago:20240309T210000
DTEND;TZID=America/Chicago:20240309T233000
DTSTAMP:20260421T091928
CREATED:20240130T144824Z
LAST-MODIFIED:20240224T002338Z
UID:10000088-1710018000-1710027000@collectiveeffortsunion.com
SUMMARY:PRESTON DOES STANDUP WHILE GETTING A TATTOO @ BLACK FLAG STUDIOS
DESCRIPTION:First ever Inked Comedy Set at Black Flag Studios March 9 \nPreston Williams featuring TR Risk. \nHosted by Dylan Tymes\n \n   \nPreston Williams is a young\, energetic comedian from a small town in the midwest. Even though he is only 26\, Preston has performed on stages from North Dakota to California in his 5 years of comedy and has opened for names such as Kevin Farley\, Timmy Williams and Ray Donnaven and always brings a great show to any size stage he performs on. His story-centered comedy always makes for an entertaining show. \n$20 admission Doors 9pm\, Showtime 9:30pmBlack Flag Studios2301 W Madison AveSioux Falls\, SD 57104 \nFacebook event / more info \n** All seating first-come first-serve
URL:https://collectiveeffortsunion.com/event/preston-does-standup-while-getting-a-tattoo-black-flag-studios/
LOCATION:Black Flag Studios – Sioux Falls\, 2301 w Madison Ave\, SIOUX FALLS\, SD\, 57104\, United States
CATEGORIES:Comedy Shows
ATTACH;FMTTYPE=image/png:https://collectiveeffortsunion.com/wp-content/uploads/2024/01/Preston-Williams-doing-a-standup-comedy-set-while-getting-a-tattoo.png
END:VEVENT
BEGIN:VEVENT
DTSTART;TZID=America/Chicago:20240315T203000
DTEND;TZID=America/Chicago:20240315T230000
DTSTAMP:20260421T091928
CREATED:20231218T192120Z
LAST-MODIFIED:20240312T164136Z
UID:10000077-1710534600-1710543600@collectiveeffortsunion.com
SUMMARY:KC SHORNIMA - SNL WRITER @ ICON
DESCRIPTION:KC Shornima is a comedian and writer based out of New York. She’s currently a staff writer on Saturday Night Live\, writing for the Weekend Update segment of the show\, and previously wrote for Stephen Colbert Presents Tooning Out the News. \n \n \nShe was selected for the JFL 2022 New Faces showcase in Montreal\, and has performed at comedy festivals across the country including Moontower Just for Laughs. She was named the Best Up-and-Coming Comedian in Nashville by the Nashville Scene Magazine\, and was a semifinalist for Stand-up NBC. She has also written and performed on Kevin Hart’s LOL Network. \nHosted by Sara Manson + featuring Zach Dresch & Alisha Rayne \n \nZach Dresch was born and raised in Sioux Falls\, South Dakota\, where he grew up loving sketch comedy and stand up. His major influences include Demetri Martin\, Steve Martin\, Martin Short\, and other comics that have Martin in them. In addition to stand up comedy\, Zach is in the improvisational troupe\, Improv Falls. He can also be seen as the drummer in many bands including his own\, The Disarmed. You may also know him as South Dakota’s Flu Bug\, a spokesperson for the South Dakota Department of Health. Catch him at a city near you! \n \nAlisha Rayne is a nationally touring comedian who just performed at the Laugh Riot Girl Comedy Festival earlier this summer. She runs the Downtown Open Mic which is every Monday at Lucky’s Bar in downtown Sioux Falls\, SD. She produces the Bzzzline Comedy showcase which is the last Thursday of every month. Also\, she is hilarious \n \nSara Manson is taking the Comedy Scene by storm! She has opened for Emmy Award Winner Ben Bailey\, America’s Got Talent’s Alex Hooper\, Bob & Tom’s Costaki Economopoulos and was August’s winner of The Larry Brinkman Award for Sioux Falls Best Comic! She hosts a Comedy Open mic every Tuesday at Icon Lounge. Sara will delight you with her hilarious stories about Rockstars\, Wrestling and her Banana Collection \nFriday\, March 15th\, 20249:00 PM – 10:30 PM CSTDoors open at 8:00 \n\n\n\n\n\nIcon Event Hall402 N Main #dtsf \n\n\n\n\n\nFacebook event & more info \n\n\n\n\n\n\n\n** All seating first-come first-serve \n  \n \n 
URL:https://collectiveeffortsunion.com/event/kc-shornima-snl-writer-icon/
LOCATION:Icon Event Hall – Sioux Falls\, 402 N Main Ave\, Sioux Falls\, SD\, 57104\, United States
CATEGORIES:Comedy Shows,Featured Event
ATTACH;FMTTYPE=image/png:https://collectiveeffortsunion.com/wp-content/uploads/2023/12/kcshornima.png
END:VEVENT
BEGIN:VEVENT
DTSTART;TZID=America/Chicago:20240316T190000
DTEND;TZID=America/Chicago:20240317T190000
DTSTAMP:20260421T091928
CREATED:20231218T195231Z
LAST-MODIFIED:20240312T185410Z
UID:10000078-1710615600-1710702000@collectiveeffortsunion.com
SUMMARY:KC SHORNIMA – SNL WRITER - FARGO
DESCRIPTION:KC is a comedian and writer based out of New York. She’s currently a staff writer on Saturday Night Live\, writing for the Weekend Update segment of the show\, and previously wrote for Stephen Colbert Presents Tooning Out the News. \n \n\n  \nShe was selected for the JFL 2022 New Faces showcase in Montreal\, and has performed at comedy festivals across the country including Moontower Just for Laughs. She was named the Best Up-and-Coming Comedian in Nashville by the Nashville Scene Magazine\, and was a semifinalist for Stand-up NBC. She has also written and performed on Kevin Hart’s LOL Network. \nhttps://www.kcshornima.com/ \nw/ Greg Hobbs\, Dylan Gronlund\, Blaize Kautzman & Nick Cox \nSaturday/Sunday\, March 16-17th\, 20248:00 PM – 10:00 PM CSTDoors open at 7:00 for dinner and drinks! \n\n\nBoss’ Comedy Club228 Broadway NorthFargo\, ND 58102Facebook event & more info
URL:https://collectiveeffortsunion.com/event/kc-shornima-snl-writer-fargo/
LOCATION:Boss Comedy Club – Fargo\, 228 Broadway North\, Fargo\, ND\, 58102\, United States
CATEGORIES:Comedy - Fargo,Comedy Shows
ATTACH;FMTTYPE=image/png:https://collectiveeffortsunion.com/wp-content/uploads/2023/12/kcshornima.png
END:VEVENT
END:VCALENDAR