BEGIN:VCALENDAR
VERSION:2.0
PRODID:-//Collective Efforts Union - ECPv6.15.20//NONSGML v1.0//EN
CALSCALE:GREGORIAN
METHOD:PUBLISH
X-ORIGINAL-URL:https://collectiveeffortsunion.com
X-WR-CALDESC:Events for Collective Efforts Union
REFRESH-INTERVAL;VALUE=DURATION:PT1H
X-Robots-Tag:noindex
X-PUBLISHED-TTL:PT1H
BEGIN:VTIMEZONE
TZID:America/Chicago
BEGIN:DAYLIGHT
TZOFFSETFROM:-0600
TZOFFSETTO:-0500
TZNAME:CDT
DTSTART:20230312T080000
END:DAYLIGHT
BEGIN:STANDARD
TZOFFSETFROM:-0500
TZOFFSETTO:-0600
TZNAME:CST
DTSTART:20231105T070000
END:STANDARD
BEGIN:DAYLIGHT
TZOFFSETFROM:-0600
TZOFFSETTO:-0500
TZNAME:CDT
DTSTART:20240310T080000
END:DAYLIGHT
BEGIN:STANDARD
TZOFFSETFROM:-0500
TZOFFSETTO:-0600
TZNAME:CST
DTSTART:20241103T070000
END:STANDARD
BEGIN:DAYLIGHT
TZOFFSETFROM:-0600
TZOFFSETTO:-0500
TZNAME:CDT
DTSTART:20250309T080000
END:DAYLIGHT
BEGIN:STANDARD
TZOFFSETFROM:-0500
TZOFFSETTO:-0600
TZNAME:CST
DTSTART:20251102T070000
END:STANDARD
END:VTIMEZONE
BEGIN:VEVENT
DTSTART;TZID=America/Chicago:20240503T200000
DTEND;TZID=America/Chicago:20240503T230000
DTSTAMP:20260421T063200
CREATED:20240214T104250Z
LAST-MODIFIED:20240501T172440Z
UID:10000095-1714766400-1714777200@collectiveeffortsunion.com
SUMMARY:ISAK ALLEN COMEDY @ ICON
DESCRIPTION:Isak Allen graduated with a degree in Neuroscience\, a triple minor in Biology\, Psychology\, and German\, then said\, “Mom\, Dad…I want to make it in California.” He then packed up all of his savings\, a suitcase of clothes\, and trash can full of DVDs\, and left (much to his tiger mom’s chagrin).\nIsak addresses his mixed heritage and cultural upbringing on stage\, as well as what it’s like to go through a divorce at the ripe age of 30\, the genetics of fighters\, and women in football.\nIsak has also been touring clubs\, colleges\, and private events since the release of his highly anticipated 2023 debut comedy special from DryBar Comedy “Culturally Unavailable”. He has shared the stage with comedy greats like Bill Burr\, Joe Rogan\, Tom Papa\, Joey Diaz\, and toured with Taylor Williamson and Drew Lynch from AGT. He continues to make his mark in the L.A. comedy scene becoming being a regular at the Comedy Store in Hollywood\, as well as a paid regular at the Comedy & Magic Club and The Stand Up Club. He can be seen on Season 2 of the HBO series Westworld and national commercials by T-Mobile and State Farm with Patrick Mahomes. \nIsak’s short film “The Impossible Choice” — which he wrote\, produced\, directed\, scored\, and starred in — premiered at the Austin Comedy Film Festival in 2021 where it was up for Best Ensemble Cast\, and it was accepted into the LA Indie Shortfest and nominated for Best Short..  He can also be seen on the hit YouTube series\, “Anime Crimes Division” (over 1.6 million views) and is a writer/actor on the web series “LOL Parenting”.\n  \nWith special guests Hannah Marie & hosted by Dylan Tymes \nHannah Marie is an upcoming comedian in the Sioux Falls scene. While being a bright light\, Hannah brings her own take on being raised Native American\,a single mother of two who also struggles with mental health.Friday\, May 3rd\, 20249:00 PM – 11:00 PM CSTDoors at 8:00 PMIcon Event Hall402 N Main #dtsfFacebook event & more info** All seating first-come first-serve
URL:https://collectiveeffortsunion.com/event/isak-allen-comedy-icon/
LOCATION:Icon Event Hall – Sioux Falls\, 402 N Main Ave\, Sioux Falls\, SD\, 57104\, United States
CATEGORIES:Comedy Shows
ATTACH;FMTTYPE=image/jpeg:https://collectiveeffortsunion.com/wp-content/uploads/2024/02/isakallen2-scaled.jpg
END:VEVENT
BEGIN:VEVENT
DTSTART;TZID=America/Chicago:20240510T190000
DTEND;TZID=America/Chicago:20240510T220000
DTSTAMP:20260421T063200
CREATED:20240228T191027Z
LAST-MODIFIED:20240508T185654Z
UID:10000101-1715367600-1715378400@collectiveeffortsunion.com
SUMMARY:COSTAKI FROM BOB & TOM - NORTH PLATTE\, NE
DESCRIPTION:For 20 years Costaki has been living his dream as a full-time stand up comic. He has written jokes for Bette Midler\, Jay Leno\, MTV and BET. You may have seen him on Showtime\, or heard him on Sirius\, but you probably know him best from his regular appearances on the nationally syndicated Bob & Tom Radio Show. \n\n\n\n\n  \nFriday\, May 10th 2024Doors/Dinner 7:00 | Show to follow \nBoss’ Comedy Club\n\n2102 S Jeffers StNorth Platte\, NE \n\n\nFacebook event & more info \n** All seating first come-first serve
URL:https://collectiveeffortsunion.com/event/costaki-from-bob-tom-north-platte-ne/
LOCATION:Boss’ Comedy – North Platte\, 2102 S Jeffers St\, North Platte\, NE\, 69101\, United States
CATEGORIES:Comedy Shows
ATTACH;FMTTYPE=image/png:https://collectiveeffortsunion.com/wp-content/uploads/2024/02/COSTABI-BANNER.png
END:VEVENT
BEGIN:VEVENT
DTSTART;TZID=America/Chicago:20240515T200000
DTEND;TZID=America/Chicago:20240515T223000
DTSTAMP:20260421T063200
CREATED:20240105T230723Z
LAST-MODIFIED:20240429T175311Z
UID:10000084-1715803200-1715812200@collectiveeffortsunion.com
SUMMARY:NEIL HAMBURGER @ ICON
DESCRIPTION:“America’s Funnyman” Neil Hamburger has worked every imaginable stage\, from New York’s Madison Square Garden\, to a show in pitch black darkness at the Edin- burgh Fringe Fest. He has performed countless American\, Australian\, British\, Irish\, and Canadian tours\, as well as in Norway\, New Zealand\, and the Bahamas\, along- side acts ranging from Faith No More to Robin Williams. His TV credits include Tim and Eric Awesome Show\, Tom Green Live\, and Jimmy Kimmel Live. His Live At Third Man album was produced by Jack White in Nashville; an earlier Hamburger effort was included in SPIN’s “40 Greatest Comedy Albums Of All Time.” The fea- ture movie Entertainment\, a dramatic look at Hamburger on- and off-stage co-star- ring John C. Reilly\, Tye Sheridan\, and Michael Cera\, premiered at the Sundance and Locarno Film Festivals\, and was released in 2015 to rave reviews. His recent Drag City album of lavishly-produced song\, Still Dwelling\, featured a memorable trio version of Jesus Christ Superstar’s “Everything’s Alright” with Neil singing alongside Mike Patton and Jack Black. \n \n\n\n\n\n\n\nFeaturing : Chris Crofton \n \nChris Crofton started performing comedy after he graduated from college in 1991. He moved to New York City from Connecticut and appeared at open mics around the city: Stand Up NY\, The West End\, Rose’s Turn\, New York Comedy Club\, The Village Gate\, and Gladys’s Comedy Room at Hamburger Harry’s. Crofton was also writing songs at this time. Following the release of his critically acclaimed first album\, The Alcohol Stuntman\, on Stylus Records\, he moved to Nashville to pursue music. \nFrom 2001 up to the present\, he has performed and recorded with Chris Crofton The Alcohol Stuntband. Known as much for Crofton’s between-song comments as the music\, The Alcohol Stuntband has played with The Black Keys\, Rocket From the Tombs\, Richard Lloyd\, Lucero\, Danko Jones\, The Paybacks and many\, many\, more. From 2005 to 2009 Crofton hosted the now-legendary “Best of Bread” radio show on Nashville’s WRVU\, a weekly program in which he and his brother Greg mixed topical and absurd commentary with 70s soft-rock classics. Crofton is also an award-winning actor who has appeared in numerous independent films. \nIn 2006\, a local comedian asked Crofton to try standup again for fun. After performing for 10 years with The Alcohol Stuntband\, Crofton had developed a remarkable ease onstage\, and his topical palette had expanded dramatically. These qualities combined with Crofton’s unique perspective to create a comedy monster. His style mixes the social commentary of Richard Pryor and Bill Hicks\, the absurdity of Steve Martin\, and the pacing and stage presence of Lenny Bruce. In 2007\, Crofton was invited to open for Neil Hamburger in Nashville. Hamburger was impressed with his set and arranged for him to open a show for Bob Odenkirk and Louis CK at the Upright Citizens Brigade Theater in Los Angeles. In 2009\, after seeing his standup\, Harmony Korine cast Crofton in his film Trash Humpers and brought him to select cities to perform comedy prior to screenings. Later in 2009\, after WRVU’s lamented demise\, Crofton adapted the Best of Bread broadcast into the popular weekly podcast “The Chris Crofton Show.” \n+ The Husky Hearthrob: Tim Jastram\nTim is a local comedian that will capture your heart’s funny bone. A family man with a mysterious past with a story or two about life and its haunting reminder to look at the bright side of things. If Tim had last words it would be as a reminder to remember to wash your hands!\n  \n\n\n\nWednesday\, May 15th\, 20248:00 PM – 10:00 PM CSTIcon Event Hall402 N Main #dtsfFacebook event & more info** All seating first-come first-serve
URL:https://collectiveeffortsunion.com/event/neil-hamburger-icon/
LOCATION:Icon Event Hall – Sioux Falls\, 402 N Main Ave\, Sioux Falls\, SD\, 57104\, United States
CATEGORIES:Comedy Shows,Music Shows
ATTACH;FMTTYPE=image/jpeg:https://collectiveeffortsunion.com/wp-content/uploads/2024/01/Duluth_GA_400x400.jpg
END:VEVENT
END:VCALENDAR