BEGIN:VCALENDAR
VERSION:2.0
PRODID:-//Collective Efforts Union - ECPv6.15.20//NONSGML v1.0//EN
CALSCALE:GREGORIAN
METHOD:PUBLISH
X-ORIGINAL-URL:https://collectiveeffortsunion.com
X-WR-CALDESC:Events for Collective Efforts Union
REFRESH-INTERVAL;VALUE=DURATION:PT1H
X-Robots-Tag:noindex
X-PUBLISHED-TTL:PT1H
BEGIN:VTIMEZONE
TZID:America/Chicago
BEGIN:DAYLIGHT
TZOFFSETFROM:-0600
TZOFFSETTO:-0500
TZNAME:CDT
DTSTART:20240310T080000
END:DAYLIGHT
BEGIN:STANDARD
TZOFFSETFROM:-0500
TZOFFSETTO:-0600
TZNAME:CST
DTSTART:20241103T070000
END:STANDARD
BEGIN:DAYLIGHT
TZOFFSETFROM:-0600
TZOFFSETTO:-0500
TZNAME:CDT
DTSTART:20250309T080000
END:DAYLIGHT
BEGIN:STANDARD
TZOFFSETFROM:-0500
TZOFFSETTO:-0600
TZNAME:CST
DTSTART:20251102T070000
END:STANDARD
BEGIN:DAYLIGHT
TZOFFSETFROM:-0600
TZOFFSETTO:-0500
TZNAME:CDT
DTSTART:20260308T080000
END:DAYLIGHT
BEGIN:STANDARD
TZOFFSETFROM:-0500
TZOFFSETTO:-0600
TZNAME:CST
DTSTART:20261101T070000
END:STANDARD
END:VTIMEZONE
BEGIN:VEVENT
DTSTART;TZID=America/Chicago:20250816T190000
DTEND;TZID=America/Chicago:20250816T220000
DTSTAMP:20260421T063149
CREATED:20250527T212804Z
LAST-MODIFIED:20250731T233340Z
UID:10000242-1755370800-1755381600@collectiveeffortsunion.com
SUMMARY:TONY TUBES Comedy LIVE @ LUCKYS | Club 224 w/ Alisha Rayne & Jocelyn Abad
DESCRIPTION:Tony Tubes has been performing stand up comedy in the South Dakota area for over 10 years. He is the premier stand up comic out of NE SD where he hosts the open mic nights as well as all of the traveling comedians showcased at Hub City Station Event Center and the Heartland Casino. He has been booked to numerous corporate events in SD as well as ND. He had also headlined dozens of venues and events with his brash sense of humor. Tony has won the coveted Larry Brinkman Funniest Person in Sioux Falls SD award. He was featured on the 4 time Emmy nominated Web Series “The Screen Junkies” where he sat at the same table graced by some of today’s funniest and most influential comedians and writers like Seth Rogen\, Kevin Smith\, Doug Benson\, Kumail Nanjiani\, and Paul Scheer.\n \n\n\n\n\n\n\n\nw/ special guestsAlisha Rayne & Jocelyn Abadhosted by GreatStuff4UFacebook event & More Info \n \n\nSaturday\, August 16th\, 20258 PM – 10:00 PM CSTDoors open at 7:00Luckys Downtown – Club 224224 N Phillips Ave #dtsf** All seating first-come first-serve** Premier Seating is front 2 rows
URL:https://collectiveeffortsunion.com/event/tony-tubes-comedy-live-luckys-club-224-w/
LOCATION:Luckys 224 – Sioux Falls\, 224 S Phillips\, Sioux Falls\, SD\, 57104\, United States
CATEGORIES:Comedy Shows
ATTACH;FMTTYPE=image/png:https://collectiveeffortsunion.com/wp-content/uploads/2025/05/798AFD82-E8FD-4381-8AE6-F6F84DF7E1FC.png
END:VEVENT
BEGIN:VEVENT
DTSTART;TZID=America/Chicago:20250821T190000
DTEND;TZID=America/Chicago:20250821T220000
DTSTAMP:20260421T063149
CREATED:20250313T214444Z
LAST-MODIFIED:20250817T004504Z
UID:10000232-1755802800-1755813600@collectiveeffortsunion.com
SUMMARY:COLUM TYRRELL @ LUCKYS CLUB 224
DESCRIPTION:After beginning his career in his home country of Ireland\, Colum Tyrrell moved to New York City and quickly became one of the fastest rising comics in the scene. He is a regular at The Comedy Cellar\, The Stand Comedy Club and Stand Up New York. A staple in the New York Comedy Podcast scene he can be heard on The Legion of Skanks\, You Know What Dude\, Are You Garbage?  + Matt and Shane’s Secret Podcast.\n\nHe launched The Colum Tyrrell Podcast in 2022 which is growing to be one of the more popular shows in New York and he recently made his television debut on The Tonight Show with Jimmy Fallon. Catch him now before he blows up and becomes a household name\n\n\n\n\n\n\nw/ special guestsDean Stanfield & John Michels \nDean Stanfield is a stand up comedian from Austin Texas. He has been showcased 3 years on Moontower comedy festival and won secound place in heliums “funniest person in Austin” competition. As well as a finalist in New Yorks story telling competition. He has featured for mark Normand and Ian Fidance and his story’s are bound to pull you in and leave you laughing.\nJohn Michels used to host at Fat Daddy’s Comedy Club and is originally from Sioux Falls. He lives here again until he can afford to move away again\nFacebook event & More Info \n\nThursday\, August 21st\, 20258 PM – 10:00 PM CSTDoors open at 7:00Luckys Downtown – Club 224224 N Phillips Ave #dtsf** All seating first-come first-serve** Premier Seating is front 2 rows
URL:https://collectiveeffortsunion.com/event/colum-tyrrell-luckys-club-224/
LOCATION:Luckys 224 – Sioux Falls\, 224 S Phillips\, Sioux Falls\, SD\, 57104\, United States
CATEGORIES:Comedy Shows
ATTACH;FMTTYPE=image/jpeg:https://collectiveeffortsunion.com/wp-content/uploads/2025/03/maxresdefault.jpg
END:VEVENT
END:VCALENDAR