BEGIN:VCALENDAR
VERSION:2.0
PRODID:-//Collective Efforts Union - ECPv6.15.20//NONSGML v1.0//EN
CALSCALE:GREGORIAN
METHOD:PUBLISH
X-WR-CALNAME:Collective Efforts Union
X-ORIGINAL-URL:https://collectiveeffortsunion.com
X-WR-CALDESC:Events for Collective Efforts Union
REFRESH-INTERVAL;VALUE=DURATION:PT1H
X-Robots-Tag:noindex
X-PUBLISHED-TTL:PT1H
BEGIN:VTIMEZONE
TZID:America/Chicago
BEGIN:DAYLIGHT
TZOFFSETFROM:-0600
TZOFFSETTO:-0500
TZNAME:CDT
DTSTART:20220313T080000
END:DAYLIGHT
BEGIN:STANDARD
TZOFFSETFROM:-0500
TZOFFSETTO:-0600
TZNAME:CST
DTSTART:20221106T070000
END:STANDARD
BEGIN:DAYLIGHT
TZOFFSETFROM:-0600
TZOFFSETTO:-0500
TZNAME:CDT
DTSTART:20230312T080000
END:DAYLIGHT
BEGIN:STANDARD
TZOFFSETFROM:-0500
TZOFFSETTO:-0600
TZNAME:CST
DTSTART:20231105T070000
END:STANDARD
BEGIN:DAYLIGHT
TZOFFSETFROM:-0600
TZOFFSETTO:-0500
TZNAME:CDT
DTSTART:20240310T080000
END:DAYLIGHT
BEGIN:STANDARD
TZOFFSETFROM:-0500
TZOFFSETTO:-0600
TZNAME:CST
DTSTART:20241103T070000
END:STANDARD
END:VTIMEZONE
BEGIN:VEVENT
DTSTART;TZID=America/Chicago:20230930T170000
DTEND;TZID=America/Chicago:20230930T200000
DTSTAMP:20260421T213435
CREATED:20230707T042551Z
LAST-MODIFIED:20230707T042551Z
UID:10000039-1696093200-1696104000@collectiveeffortsunion.com
SUMMARY:ALEX HOOPER FROM AGT! - FARGO
DESCRIPTION:Alex Hooper is a stand-up comedian\, actor\, and all around magical sprite. He delights crowds by blending dark humor with silly positivity. His joke writing is clever and fearless. Onstage he bursts with energy. Alex shines just like his sparkly wardrobe. He’s headlined clubs all over the world. And whether it’s an audience of 11 or 11\,000\, Alex leaves comedy goers begging for more. Alex is best known as the America’s Got Talent comedian who infamously roasted the judging panel in 2018.  He’s the only contestant ever to get a “yes” from Simon Cowell and a “no” from the rest of the judges. His audition went viral and in 2020 he was invited back again\, this time making it all the way to the live shows. In total\, his performances have over 100 million views. He has two albums that have both hit Number 1 on Itunes and Amazon. Other credits include Comedy Central’s Roast Battle\, Corporate\, New Girl\, and Nickelodeon. His hilarious self-help book\, Roast Yourself To Happiness\, is available on Amazon. He’s been seen in sitcoms\, commercials\, and walking on tightropes in the park. \n\n\n\n\nwith Sara Manson \n\nSara Manson is new to comedy but not the scene!  Sara has been working with local performers for many years managing bands\, hosting a radio show\, and doing Hospitality for touring artists at The District\, The Washington Pavilion and Sioux Empire Fair. She acts with Dinner Detective\, The Premier Playhouse and The Mighty Corson Art Players. She’ll keep you laughing with funny stories about celebrities\, squirrels and her banana collection. \nSaturday\, September 30th \, 2023 \n7:00 PM – 9:00 PM CST \nDoors open at 6:00 for dinner and drinks! \nBoss’ Comedy Club \n228 Broadway North \nFargo\, ND 58102 \nFacebook event & more info
URL:https://collectiveeffortsunion.com/event/alex-hooper-fargo/
LOCATION:Boss Comedy Club – Fargo\, 228 Broadway North\, Fargo\, ND\, 58102\, United States
CATEGORIES:Comedy - Fargo,Comedy Shows
ATTACH;FMTTYPE=image/jpeg:https://collectiveeffortsunion.com/wp-content/uploads/2023/07/alexhooper-web.jpg
END:VEVENT
END:VCALENDAR