BEGIN:VCALENDAR
VERSION:2.0
PRODID:-//Collective Efforts Union - ECPv6.15.20//NONSGML v1.0//EN
CALSCALE:GREGORIAN
METHOD:PUBLISH
X-ORIGINAL-URL:https://collectiveeffortsunion.com
X-WR-CALDESC:Events for Collective Efforts Union
REFRESH-INTERVAL;VALUE=DURATION:PT1H
X-Robots-Tag:noindex
X-PUBLISHED-TTL:PT1H
BEGIN:VTIMEZONE
TZID:America/Chicago
BEGIN:DAYLIGHT
TZOFFSETFROM:-0600
TZOFFSETTO:-0500
TZNAME:CDT
DTSTART:20220313T080000
END:DAYLIGHT
BEGIN:STANDARD
TZOFFSETFROM:-0500
TZOFFSETTO:-0600
TZNAME:CST
DTSTART:20221106T070000
END:STANDARD
BEGIN:DAYLIGHT
TZOFFSETFROM:-0600
TZOFFSETTO:-0500
TZNAME:CDT
DTSTART:20230312T080000
END:DAYLIGHT
BEGIN:STANDARD
TZOFFSETFROM:-0500
TZOFFSETTO:-0600
TZNAME:CST
DTSTART:20231105T070000
END:STANDARD
BEGIN:DAYLIGHT
TZOFFSETFROM:-0600
TZOFFSETTO:-0500
TZNAME:CDT
DTSTART:20240310T080000
END:DAYLIGHT
BEGIN:STANDARD
TZOFFSETFROM:-0500
TZOFFSETTO:-0600
TZNAME:CST
DTSTART:20241103T070000
END:STANDARD
END:VTIMEZONE
BEGIN:VEVENT
DTSTART;TZID=America/Chicago:20231103T170000
DTEND;TZID=America/Chicago:20231103T200000
DTSTAMP:20260421T201758
CREATED:20230614T235713Z
LAST-MODIFIED:20231102T031925Z
UID:10000024-1699030800-1699041600@collectiveeffortsunion.com
SUMMARY:STEVE SABO - FARGO
DESCRIPTION:Edgy\, Angry\, Honest and Hilarious\, Steve Sabo has been seen on HBO\, Comedy Central\, UPN and E! He is heard regularly on SiriusXM Satellite Radio and was listed as “one of the top twenty comedians working the road today” by Laugh.com. He is also the author of the Amazon bestseller\, “How to FAIL at Stand-Up Comedy”. \n\nwith special guests Scott Putnam & Greg Hobbs\n\n \n\n\n\nScott Putnam is a twenty year comedy veteran from Toledo\, Ohio. His act is chock full of quirky observations and silly one liners. He has opened for Norm MacDonald and Dave Attell. \nHosted by Dylan Gronlund \nFriday\, November 3rd \, 2023 \n7:00 PM – 9:00 PM CST \nDoors open at 6:00 for dinner and drinks! \nBoss’ Comedy Club \n228 Broadway North \nFargo\, ND 58102 \nFacebook event & more info
URL:https://collectiveeffortsunion.com/event/steve-sabo-fargo/
LOCATION:Boss Comedy Club – Fargo\, 228 Broadway North\, Fargo\, ND\, 58102\, United States
CATEGORIES:Comedy - Fargo,Comedy Shows
ATTACH;FMTTYPE=image/jpeg:https://collectiveeffortsunion.com/wp-content/uploads/2023/06/110323-SteveSabo-Fargo.jpg
END:VEVENT
END:VCALENDAR