BEGIN:VCALENDAR
VERSION:2.0
PRODID:-//Collective Efforts Union - ECPv6.15.20//NONSGML v1.0//EN
CALSCALE:GREGORIAN
METHOD:PUBLISH
X-ORIGINAL-URL:https://collectiveeffortsunion.com
X-WR-CALDESC:Events for Collective Efforts Union
REFRESH-INTERVAL;VALUE=DURATION:PT1H
X-Robots-Tag:noindex
X-PUBLISHED-TTL:PT1H
BEGIN:VTIMEZONE
TZID:America/Chicago
BEGIN:DAYLIGHT
TZOFFSETFROM:-0600
TZOFFSETTO:-0500
TZNAME:CDT
DTSTART:20220313T080000
END:DAYLIGHT
BEGIN:STANDARD
TZOFFSETFROM:-0500
TZOFFSETTO:-0600
TZNAME:CST
DTSTART:20221106T070000
END:STANDARD
BEGIN:DAYLIGHT
TZOFFSETFROM:-0600
TZOFFSETTO:-0500
TZNAME:CDT
DTSTART:20230312T080000
END:DAYLIGHT
BEGIN:STANDARD
TZOFFSETFROM:-0500
TZOFFSETTO:-0600
TZNAME:CST
DTSTART:20231105T070000
END:STANDARD
BEGIN:DAYLIGHT
TZOFFSETFROM:-0600
TZOFFSETTO:-0500
TZNAME:CDT
DTSTART:20240310T080000
END:DAYLIGHT
BEGIN:STANDARD
TZOFFSETFROM:-0500
TZOFFSETTO:-0600
TZNAME:CST
DTSTART:20241103T070000
END:STANDARD
END:VTIMEZONE
BEGIN:VEVENT
DTSTART;TZID=America/Chicago:20231124T180000
DTEND;TZID=America/Chicago:20231124T210000
DTSTAMP:20260421T185308
CREATED:20231030T183428Z
LAST-MODIFIED:20231102T031607Z
UID:10000057-1700848800-1700859600@collectiveeffortsunion.com
SUMMARY:NICK HOFF - FARGO - tour opener for Larry the Cable Guy & Jeff Foxworthy
DESCRIPTION:Nick Hoff is a nationally touring stand-up comedian who has been on MTV\, co-hosts a weekly show on SiriusXM\, and was a featured act in Netflix’s Comedy Festival. His debut album “Baby Daddy” hit #1 on the iTunes comedy charts\, and his new hour-long special “Front to Back” can be streamed on YouTube. When he’s not on stage\, Nick can often be seen in commercials for Miller Lite\, Pepsi and Amazon. \nJeff Foxworthy and Larry the Cable Guy hand-picked Nick to open for them on their critically acclaimed “We’ve Been Thinking” Tour. He has headlined the “Pink Ribbon Comedy Tour” which made stops in 40 cities doing 65 shows all raising money for breast cancer research. He was also part of the “Walk of Shame” national comedy tour\, which was not quite so noble a cause. \n\nCheck out Nick live when he comes to a city near you\, and listen to his weekly podcast “Hoffcast” where he trades stories with comedians\, friends\, and one astronaut (so far). \nwith special guests TBA \nFriday\, November 24th \, 2023 \n7:00 PM – 9:00 PM CST \nDoors open at 6:00 for dinner and drinks! \nBoss’ Comedy Club \n228 Broadway North \nFargo\, ND 58102 \nFacebook event & more info
URL:https://collectiveeffortsunion.com/event/nickhoff-fargo/
LOCATION:Boss Comedy Club – Fargo\, 228 Broadway North\, Fargo\, ND\, 58102\, United States
CATEGORIES:Comedy - Fargo,Comedy Shows
ATTACH;FMTTYPE=image/jpeg:https://collectiveeffortsunion.com/wp-content/uploads/2023/10/190506-Nick-Hoff-073.jpg
END:VEVENT
BEGIN:VEVENT
DTSTART;TZID=America/Chicago:20231124T203000
DTEND;TZID=America/Chicago:20231124T233000
DTSTAMP:20260421T185308
CREATED:20231116T023711Z
LAST-MODIFIED:20231116T025027Z
UID:10000066-1700857800-1700868600@collectiveeffortsunion.com
SUMMARY:NICK REYNOLDSON & GARRETT JAMIESON @ BLACK FLAG
DESCRIPTION:Hailing from Scarborough\, Ontario\, Nick Reynoldson has a unique view of the world. Sharp\, smart and energetic\, he’s already one of Toronto’s most respected comedians. \nA 2018 Runner Up at SiriusXM’s Top Comic Competition\, Nick has appeared in major festivals including Just For Laughs\, the Winnipeg Comedy Festival\, NXNE and as part of the New Faces Showcase at JFL 42. He’s been featured on MTV\, MUCH\, CBC and multiple national commercials. \nNick’s debut album\, I’ll Be Fine received critical acclaim and can regularly be heard on SiriusXM. \n\n\n\n\n\n\n\nwith special guests Garrett Jamieson & Adam Goodge \n\n\n\n\n\n\n\nThis Winnipegger who once worked at a dirt factory\, funeral home and pornography store left the nest (Winnipeg) to set the comedy wheels inmotion. Since leaving he has made a name for himself. First\, graduating from The Humber School of Comedy with honours. He is one of the founding members of the Award Winning sketch troupe The BOOM in which he worked with dynamo Canadian comedians: Scott Thompson\, Nikki Payne and Colin Mochrie. Garrett has opened up on tour for Juno Award-winning metal band\, KEN mode.He has been featured on the Ron James Show\, XM Radio’s Laugh Attack\, MTV Canada\, Comedy Network\, Etalk Canada and CBC Radio. \n\n\n\n\n\n\n\nAdam Goodge is a local artist and comedian known for his odd sense of humor and wild illustrations\, he will take you on a journey of the imagination  and keep you laughing the whole way. \n\n\n\nHosted by TN Tymes \nTN Tymes\, also goes by Dylan Tymes\, is an indigenous and independent comedian\, host\, podcaster\, professional wrestler\, promoter\, and referee. He puts on showcases and open mics in the Sioux Falls area at La Carreta Bar\, Windy City Bites\, and coming soon Black Flag Studios. He’s also in training with Flagship Pro Wrestling to become a pro wrestler\, his lifelong dream and passion. He is the host of many things including his podcast TN Tymes Show. \n  \nFriday\, November 24th \, 2023 \n\n\n\n9:00 PM – 11:00 PM CST \n\n\n\nDoors open at 8:30 \n\n\n\nBlack Flag Studios \n\n\n\n2301 W Madison Ave – Sioux Falls \n\n\n\nFacebook event & more info \n\n\n\n\n\n** All seating first-come first-serve
URL:https://collectiveeffortsunion.com/event/nick-reynoldson-garrett-jamieson-black-flag/
LOCATION:Black Flag Studios – Sioux Falls\, 2301 w Madison Ave\, SIOUX FALLS\, SD\, 57104\, United States
CATEGORIES:Comedy Shows
ATTACH;FMTTYPE=image/jpeg:https://collectiveeffortsunion.com/wp-content/uploads/2023/11/112423-NickGarrett-BlackFlag.jpg
END:VEVENT
END:VCALENDAR