BEGIN:VCALENDAR
VERSION:2.0
PRODID:-//Collective Efforts Union - ECPv6.15.20//NONSGML v1.0//EN
CALSCALE:GREGORIAN
METHOD:PUBLISH
X-ORIGINAL-URL:https://collectiveeffortsunion.com
X-WR-CALDESC:Events for Collective Efforts Union
REFRESH-INTERVAL;VALUE=DURATION:PT1H
X-Robots-Tag:noindex
X-PUBLISHED-TTL:PT1H
BEGIN:VTIMEZONE
TZID:America/Chicago
BEGIN:DAYLIGHT
TZOFFSETFROM:-0600
TZOFFSETTO:-0500
TZNAME:CDT
DTSTART:20230312T080000
END:DAYLIGHT
BEGIN:STANDARD
TZOFFSETFROM:-0500
TZOFFSETTO:-0600
TZNAME:CST
DTSTART:20231105T070000
END:STANDARD
BEGIN:DAYLIGHT
TZOFFSETFROM:-0600
TZOFFSETTO:-0500
TZNAME:CDT
DTSTART:20240310T080000
END:DAYLIGHT
BEGIN:STANDARD
TZOFFSETFROM:-0500
TZOFFSETTO:-0600
TZNAME:CST
DTSTART:20241103T070000
END:STANDARD
BEGIN:DAYLIGHT
TZOFFSETFROM:-0600
TZOFFSETTO:-0500
TZNAME:CDT
DTSTART:20250309T080000
END:DAYLIGHT
BEGIN:STANDARD
TZOFFSETFROM:-0500
TZOFFSETTO:-0600
TZNAME:CST
DTSTART:20251102T070000
END:STANDARD
END:VTIMEZONE
BEGIN:VEVENT
DTSTART;TZID=America/Chicago:20240112T210000
DTEND;TZID=America/Chicago:20240112T233000
DTSTAMP:20260421T161247
CREATED:20240104T034937Z
LAST-MODIFIED:20240109T205452Z
UID:10000083-1705093200-1705102200@collectiveeffortsunion.com
SUMMARY:DRY JANUARY COMEDY SHOW @ BLACK FLAG STUDIOS
DESCRIPTION:DRY JANUARY COMEDY SHOW \n   \nBlack Flag Studios and all the comedians involved with our first sobriety focused show called Dry January wants to reach out to the Alcoholics Anonymous and Narcotics Anonymous communities in the area and invite them to watch people who’ve been in those groups do their thing as standup comedians. Chris Freier and The One Will C are great comics but greater people too and this is a show for them and people like them. \n$10 admission Doors 9pm\, Showtime 9:30pmBlack Flag Studios2301 W Madison AveSioux Falls\, SD 57104 \n** All seating first-come first-serve
URL:https://collectiveeffortsunion.com/event/dry-january-comedy-show-black-flag-studios/
LOCATION:Black Flag Studios – Sioux Falls\, 2301 w Madison Ave\, SIOUX FALLS\, SD\, 57104\, United States
CATEGORIES:Comedy Shows
ATTACH;FMTTYPE=image/jpeg:https://collectiveeffortsunion.com/wp-content/uploads/2024/01/011224-BlackFlag.jpg
END:VEVENT
END:VCALENDAR