BEGIN:VCALENDAR
VERSION:2.0
PRODID:-//Collective Efforts Union - ECPv6.15.20//NONSGML v1.0//EN
CALSCALE:GREGORIAN
METHOD:PUBLISH
X-ORIGINAL-URL:https://collectiveeffortsunion.com
X-WR-CALDESC:Events for Collective Efforts Union
REFRESH-INTERVAL;VALUE=DURATION:PT1H
X-Robots-Tag:noindex
X-PUBLISHED-TTL:PT1H
BEGIN:VTIMEZONE
TZID:America/Chicago
BEGIN:DAYLIGHT
TZOFFSETFROM:-0600
TZOFFSETTO:-0500
TZNAME:CDT
DTSTART:20230312T080000
END:DAYLIGHT
BEGIN:STANDARD
TZOFFSETFROM:-0500
TZOFFSETTO:-0600
TZNAME:CST
DTSTART:20231105T070000
END:STANDARD
BEGIN:DAYLIGHT
TZOFFSETFROM:-0600
TZOFFSETTO:-0500
TZNAME:CDT
DTSTART:20240310T080000
END:DAYLIGHT
BEGIN:STANDARD
TZOFFSETFROM:-0500
TZOFFSETTO:-0600
TZNAME:CST
DTSTART:20241103T070000
END:STANDARD
BEGIN:DAYLIGHT
TZOFFSETFROM:-0600
TZOFFSETTO:-0500
TZNAME:CDT
DTSTART:20250309T080000
END:DAYLIGHT
BEGIN:STANDARD
TZOFFSETFROM:-0500
TZOFFSETTO:-0600
TZNAME:CST
DTSTART:20251102T070000
END:STANDARD
END:VTIMEZONE
BEGIN:VEVENT
DTSTART;TZID=America/Chicago:20240119T200000
DTEND;TZID=America/Chicago:20240120T200000
DTSTAMP:20260421T161239
CREATED:20231219T234838Z
LAST-MODIFIED:20240109T205459Z
UID:10000080-1705694400-1705780800@collectiveeffortsunion.com
SUMMARY:STEVEN MICHAEL QUEZADA from BREAKING BAD - NORTH PLATTE\, NE
DESCRIPTION:A veteran of New Mexico’s steadily rising film industry\, Steven studied Theatre at Eastern New Mexico University. \nHe portrayed DEA Agent Steven Gomez on the Emmy-winning television series Breaking Bad on AMC. Steven has also appeared in television series such as Wildfire\, Crash\, and In Plain Sight. Quezada has just finished starring in the thriller Light From The Darkroom and a featured role in the new George Lopez movie La Vida Robot. Steven also appears in Love Ranch alongside Joe Pesci and Helen Mirren\, the hit comedy Beerfest alongside the comedy team from Broken Lizard\, First Snow with Guy Pierce\, and the short film Milagros\, which received major acclaim at film festivals worldwide and earned Steven a nomination for Best Actor at the Tenerife International Film Festival in Spain. In 2013 he also received a Screen Actors Guild Award nomination for Outstanding Performance by an Ensemble in a Drama Series for his role in Breaking Bad. \n \nIn 2010\, Steven partnered with executive producer Mark Padilla and Marco Nunez to host his own late-night talk show\, The After After Party with Steven Michael Quezada. \nIn addition to his successful career as an actor\, Steven is one of the most noted comedians out of the southwest\, touring comedy clubs across the United States since 1987. He is a five-time recipient of the New Mexico Hispanic Entertainers Association Comedian of the Year Award\, and he has been appeared on HBO\, Showtime\, the Latino comedy feature Que Locos\, and was recently hand-selected to open for Saturday Night Live alumnus and movie actor Rob Schneider\, and Anjelah Johnson. Steven also recently performed a hilarious bit of his stand-up routine on The Arsenio Hall Show. \nSteven Michael Quezada is a life-long resident of New Mexico. He pursued his love for performing by studying Theatre Arts at Eastern New Mexico University\, and through the years\, has earned the distinction as one of the most charitable celebrities in New Mexico. Steven has raised money for organizations such as Youth Development Incorporated (YDI)\, the Boys and Girls Club of New Mexico and countless others. Steven has devoted time to Actors Core\, Mi Voz\, Elev8 and gang intervention programs sponsored by YDI. He has taught acting classes to local kids and through The After After Party\, has provided on-the-job training for future filmmakers\, including students from the Digital Arts and Technology Academy (DATA) in Albuquerque. He is an elected member of the Albuquerque Public Schools\, which is one of the largest school districts in the nation. He is the Secretary of the Board. Steven is married to Cherise Quezada\, has four children\, and enjoys playing golf in his spare time. \n\n\n\n\n \nwith special guests TBA \nFriday\, January 19th & Saturday\, January 20th 2024Doors open 7:00 – Showtime 8:00 \nBoss’ Comedy Club\n\n2102 S Jeffers StNorth Platte\, NE\n\n \n \n** All seating first come-first serve** Premier Seating is front 20% of room
URL:https://collectiveeffortsunion.com/event/steven-michael-quezada-from-breaking-bad-north-platte-ne/
LOCATION:Boss’ Comedy – North Platte\, 2102 S Jeffers St\, North Platte\, NE\, 69101\, United States
CATEGORIES:Comedy Shows
ATTACH;FMTTYPE=image/jpeg:https://collectiveeffortsunion.com/wp-content/uploads/2023/12/quezada_steven.jpg
END:VEVENT
END:VCALENDAR