BEGIN:VCALENDAR
VERSION:2.0
PRODID:-//Collective Efforts Union - ECPv6.15.20//NONSGML v1.0//EN
CALSCALE:GREGORIAN
METHOD:PUBLISH
X-ORIGINAL-URL:https://collectiveeffortsunion.com
X-WR-CALDESC:Events for Collective Efforts Union
REFRESH-INTERVAL;VALUE=DURATION:PT1H
X-Robots-Tag:noindex
X-PUBLISHED-TTL:PT1H
BEGIN:VTIMEZONE
TZID:America/Chicago
BEGIN:DAYLIGHT
TZOFFSETFROM:-0600
TZOFFSETTO:-0500
TZNAME:CDT
DTSTART:20230312T080000
END:DAYLIGHT
BEGIN:STANDARD
TZOFFSETFROM:-0500
TZOFFSETTO:-0600
TZNAME:CST
DTSTART:20231105T070000
END:STANDARD
BEGIN:DAYLIGHT
TZOFFSETFROM:-0600
TZOFFSETTO:-0500
TZNAME:CDT
DTSTART:20240310T080000
END:DAYLIGHT
BEGIN:STANDARD
TZOFFSETFROM:-0500
TZOFFSETTO:-0600
TZNAME:CST
DTSTART:20241103T070000
END:STANDARD
BEGIN:DAYLIGHT
TZOFFSETFROM:-0600
TZOFFSETTO:-0500
TZNAME:CDT
DTSTART:20250309T080000
END:DAYLIGHT
BEGIN:STANDARD
TZOFFSETFROM:-0500
TZOFFSETTO:-0600
TZNAME:CST
DTSTART:20251102T070000
END:STANDARD
END:VTIMEZONE
BEGIN:VEVENT
DTSTART;TZID=America/Chicago:20240126T200000
DTEND;TZID=America/Chicago:20240126T230000
DTSTAMP:20260421T161247
CREATED:20231031T194842Z
LAST-MODIFIED:20240125T192230Z
UID:10000061-1706299200-1706310000@collectiveeffortsunion.com
SUMMARY:BRENDAN GAY COMEDY @ ICON
DESCRIPTION:Born and raised in the Midwest\, Brendan is a national touring comedian who smiles confidently when nervous. Whether it’s his keen perspective on minority culture or growing up as a millennial\, he’ll make you laugh. Brendan was a finalist on TruTV’s Comedy Breakout initiative at The New York Television Festival\, Finalist in the Make Me Laugh USA Competition\, and Semi finalist in NBC’s Stand Up Diversity Showcase and part of the San Francisco International Comedy Competition. In 2017\, Brendan went on a “52 x 52” comedy tour where he traveled to 52 cities in 52 weeks doing stand up comedy at the most respected clubs and venues across the country. He’s also the creator and producer of Send It Show Podcast. His Comedy Special The Riot is out now on Youtube \n \n+ special guest Ateh Ekinde  \n \nAteh Ekinde is a comedian based in Minneapolis who found his way onto a comedy stage in 2019. When he isn’t on stage performing you can catch him crying in traffic on the way home from work.  \nHosted by Dylan Tymes: \n \nDylan Tymes is a standup comedian from the Pine Ridge Reservation in South Dakota. He got his start as a comic in Billings\, MT and now currently lives in and performs in the Sioux Empire. He also is training to become a professional wrestler\, and hosts and podcasts. You can find him on Facebook\, Instagram\, and Twitter. He still calls it Twitter. His primary venues for shows and open mics are Black Flag Studios and Windy City Bites in Sioux Falls\, SD \nFriday\, January 26th\, 20248:00 PM door 9:00 showIcon Event Hall402 N Main #dtsfFacebook event & more info \n\n\n\n\n\n\n\n\n\n\n\n\n\n\n \n** All seating first-come first-serve
URL:https://collectiveeffortsunion.com/event/brendan-gay-icon/
LOCATION:Icon Event Hall – Sioux Falls\, 402 N Main Ave\, Sioux Falls\, SD\, 57104\, United States
CATEGORIES:Comedy Shows
ATTACH;FMTTYPE=image/jpeg:https://collectiveeffortsunion.com/wp-content/uploads/2023/10/brendangay.jpeg
END:VEVENT
END:VCALENDAR