BEGIN:VCALENDAR
VERSION:2.0
PRODID:-//Collective Efforts Union - ECPv6.15.20//NONSGML v1.0//EN
CALSCALE:GREGORIAN
METHOD:PUBLISH
X-ORIGINAL-URL:https://collectiveeffortsunion.com
X-WR-CALDESC:Events for Collective Efforts Union
REFRESH-INTERVAL;VALUE=DURATION:PT1H
X-Robots-Tag:noindex
X-PUBLISHED-TTL:PT1H
BEGIN:VTIMEZONE
TZID:America/Chicago
BEGIN:DAYLIGHT
TZOFFSETFROM:-0600
TZOFFSETTO:-0500
TZNAME:CDT
DTSTART:20230312T080000
END:DAYLIGHT
BEGIN:STANDARD
TZOFFSETFROM:-0500
TZOFFSETTO:-0600
TZNAME:CST
DTSTART:20231105T070000
END:STANDARD
BEGIN:DAYLIGHT
TZOFFSETFROM:-0600
TZOFFSETTO:-0500
TZNAME:CDT
DTSTART:20240310T080000
END:DAYLIGHT
BEGIN:STANDARD
TZOFFSETFROM:-0500
TZOFFSETTO:-0600
TZNAME:CST
DTSTART:20241103T070000
END:STANDARD
BEGIN:DAYLIGHT
TZOFFSETFROM:-0600
TZOFFSETTO:-0500
TZNAME:CDT
DTSTART:20250309T080000
END:DAYLIGHT
BEGIN:STANDARD
TZOFFSETFROM:-0500
TZOFFSETTO:-0600
TZNAME:CST
DTSTART:20251102T070000
END:STANDARD
END:VTIMEZONE
BEGIN:VEVENT
DTSTART;TZID=America/Chicago:20240210T173000
DTEND;TZID=America/Chicago:20240210T213000
DTSTAMP:20260421T144041
CREATED:20240120T204026Z
LAST-MODIFIED:20240208T031207Z
UID:10000086-1707586200-1707600600@collectiveeffortsunion.com
SUMMARY:VALENTINE'S DINNER & COMEDY w/ NATHAN HULTS - NORTH PLATTE\, NE
DESCRIPTION:Dinner and a date for $50/plate – ticket for the show included. Dinner menu is a 3 course dinner with house salad and dessert: \nA)  BBQ pork dinner with creamy horseradish – w/ baked potato\, asparagus\, dinner rollB) Citrus marinated chicken breast – w/ baked potato\, asparagus\, dinner roll \nOne alcoholic drink of choice will be included with each meal\, along with unlimited soda or other non alcoholic drinks \nThe Comedians: \nNATHAN HULTSPerforming since the age of 7. A husband\, a father\, a son and a ginger\, livin life fast and hard has given plenty of experiences fit for the stage. He has perfected his positive and high energy storytelling with quick wit and audience interaction. A stand-up comedian\, actor\, and producer\, Nathan\, has performed in Auditoriums\, Bars\, Comedy Clubs\, Colleges and Drafthouses across the country. \n\n \n \nSome achievements include: a Finalist in the 2018 San Diego Comedy Festival\, featured on Amazon Prime\, Gilda’s LaughFest\, Co-Founder and Co-Producer of the Sno Jam Comedy Festival\, and Host of The Town Crier Podcast. 2022 Sioux Falls Funniest\, and the winner of 2023 Last comic standing\, first recipient of the Sioux Falls Stage award for comedy.  \nPeople are saying- \n“I couldn’t stop smiling” – audience member “He has blown me the F*@# away with his jokes”- Timmy Williams“Would be really funny if it was someone else’s son” – Nathan”s Mother\n\n\n\n \nwith special guest ZACH DRESCH \n \n\nZach Dresch was born and raised in Sioux Falls\, South Dakota\, where he grew up loving sketch comedy and stand up. His major influences include Demetri Martin\, Steve Martin\, Martin Short\, and other comics that have Martin in them. In addition to stand up comedy\, Zach is in the improvisational troupe\, Improv Falls. He can also be seen as the drummer in many bands including his own\, The Disarmed. You may also know him as South Dakota’s Flu Bug\, a spokesperson for the South Dakota Department of Health. Catch him at a city near you! \n\n  \nNO FRIDAY SHOWSaturday\, February 10th 2024Social Hour 5:30 | Dinner 7:00 | Show to follow \nBoss’ Comedy Club\n\n2102 S Jeffers StNorth Platte\, NE\n\n \nDinner and a date for $50/plate – ticket for the show included. Dinner menu is a 3 course dinner with house salad and dessert: \nA)  BBQ pork dinner with creamy horseradish – w/ baked potato\, asparagus\, dinner rollB) Citrus marinated chicken breast – w/ baked potato\, asparagus\, dinner roll \nOne alcoholic drink of choice will be included with each meal\, along with unlimited soda or other non alcoholic drinksFacebook event & more info \n** All seating first come-first serve
URL:https://collectiveeffortsunion.com/event/nathan-hults-zach-dresch-north-platte-ne/
LOCATION:Boss’ Comedy – North Platte\, 2102 S Jeffers St\, North Platte\, NE\, 69101\, United States
CATEGORIES:Comedy Shows
ATTACH;FMTTYPE=image/jpeg:https://collectiveeffortsunion.com/wp-content/uploads/2024/01/Hults-Valentines.jpg
END:VEVENT
END:VCALENDAR