BEGIN:VCALENDAR
VERSION:2.0
PRODID:-//Collective Efforts Union - ECPv6.15.20//NONSGML v1.0//EN
CALSCALE:GREGORIAN
METHOD:PUBLISH
X-WR-CALNAME:Collective Efforts Union
X-ORIGINAL-URL:https://collectiveeffortsunion.com
X-WR-CALDESC:Events for Collective Efforts Union
REFRESH-INTERVAL;VALUE=DURATION:PT1H
X-Robots-Tag:noindex
X-PUBLISHED-TTL:PT1H
BEGIN:VTIMEZONE
TZID:America/Chicago
BEGIN:DAYLIGHT
TZOFFSETFROM:-0600
TZOFFSETTO:-0500
TZNAME:CDT
DTSTART:20230312T080000
END:DAYLIGHT
BEGIN:STANDARD
TZOFFSETFROM:-0500
TZOFFSETTO:-0600
TZNAME:CST
DTSTART:20231105T070000
END:STANDARD
BEGIN:DAYLIGHT
TZOFFSETFROM:-0600
TZOFFSETTO:-0500
TZNAME:CDT
DTSTART:20240310T080000
END:DAYLIGHT
BEGIN:STANDARD
TZOFFSETFROM:-0500
TZOFFSETTO:-0600
TZNAME:CST
DTSTART:20241103T070000
END:STANDARD
BEGIN:DAYLIGHT
TZOFFSETFROM:-0600
TZOFFSETTO:-0500
TZNAME:CDT
DTSTART:20250309T080000
END:DAYLIGHT
BEGIN:STANDARD
TZOFFSETFROM:-0500
TZOFFSETTO:-0600
TZNAME:CST
DTSTART:20251102T070000
END:STANDARD
END:VTIMEZONE
BEGIN:VEVENT
DTSTART;TZID=America/Chicago:20240419T203000
DTEND;TZID=America/Chicago:20240419T223000
DTSTAMP:20260421T092241
CREATED:20240223T185916Z
LAST-MODIFIED:20240403T001004Z
UID:10000097-1713558600-1713565800@collectiveeffortsunion.com
SUMMARY:JERRY IRBY DOES STANDUP WHILE GETTING A TATTOO @ BLACK FLAG STUDIOS
DESCRIPTION:Inked Comedy Set at Black Flag Studios April 19 \nJERRY IRBY\n \n   \nBlack Flag Studios presents Jerry Irby’s Inked Comedy SetThe reigning 2023 Sioux Falls Funniest Comic is bringing his talents to the tattoo bed and getting performing standup comedy while getting a tattoo! Rest of lineup TBA \n$10 admission Doors 8:30pm\, Showtime 9:00 pmBlack Flag Studios2301 W Madison AveSioux Falls\, SD 57104 \n** All seating first-come first-serve
URL:https://collectiveeffortsunion.com/event/jerry-irby-does-standup-while-getting-a-tattoo-black-flag-studios/
LOCATION:Black Flag Studios – Sioux Falls\, 2301 w Madison Ave\, SIOUX FALLS\, SD\, 57104\, United States
CATEGORIES:Comedy Shows
ATTACH;FMTTYPE=image/jpeg:https://collectiveeffortsunion.com/wp-content/uploads/2024/02/3511893B-FA48-489C-9BED-1CB4739B7355.jpeg
END:VEVENT
END:VCALENDAR