BEGIN:VCALENDAR
VERSION:2.0
PRODID:-//Collective Efforts Union - ECPv6.15.20//NONSGML v1.0//EN
CALSCALE:GREGORIAN
METHOD:PUBLISH
X-ORIGINAL-URL:https://collectiveeffortsunion.com
X-WR-CALDESC:Events for Collective Efforts Union
REFRESH-INTERVAL;VALUE=DURATION:PT1H
X-Robots-Tag:noindex
X-PUBLISHED-TTL:PT1H
BEGIN:VTIMEZONE
TZID:America/Chicago
BEGIN:DAYLIGHT
TZOFFSETFROM:-0600
TZOFFSETTO:-0500
TZNAME:CDT
DTSTART:20230312T080000
END:DAYLIGHT
BEGIN:STANDARD
TZOFFSETFROM:-0500
TZOFFSETTO:-0600
TZNAME:CST
DTSTART:20231105T070000
END:STANDARD
BEGIN:DAYLIGHT
TZOFFSETFROM:-0600
TZOFFSETTO:-0500
TZNAME:CDT
DTSTART:20240310T080000
END:DAYLIGHT
BEGIN:STANDARD
TZOFFSETFROM:-0500
TZOFFSETTO:-0600
TZNAME:CST
DTSTART:20241103T070000
END:STANDARD
BEGIN:DAYLIGHT
TZOFFSETFROM:-0600
TZOFFSETTO:-0500
TZNAME:CDT
DTSTART:20250309T080000
END:DAYLIGHT
BEGIN:STANDARD
TZOFFSETFROM:-0500
TZOFFSETTO:-0600
TZNAME:CST
DTSTART:20251102T070000
END:STANDARD
END:VTIMEZONE
BEGIN:VEVENT
DTSTART;TZID=America/Chicago:20240810T203000
DTEND;TZID=America/Chicago:20240810T230000
DTSTAMP:20260421T050330
CREATED:20240629T205405Z
LAST-MODIFIED:20240629T211041Z
UID:10000126-1723321800-1723330800@collectiveeffortsunion.com
SUMMARY:TEDDY WHITE TEE COMEDY @ ICON
DESCRIPTION:Whatever happened to that funny fat kid from high school? Spoiler alert\, he grew up and became a comedian! Now those same teachers that sent him to the office\, are paying for tickets to sold out shows. Growing up in the Ozarks over coming a life of crime\, Teddy White Tee is now entertaining sold out crowds all over the Midwest. Currently on the 2024 “let’s talk it over “ tour \nTeddy is selling out shows with real life crazy stories of the good\, bad\, and illegal chapters of his life! \n \nDescribed by many as a perfect mix of the late great Ralphie May and Ron White\, crowds quickly fall in love with this larger than life character that will have them on the edge from the first minute. His witty off the cuff humor and his amazing crowd work make his sets a blast for all.\n\nWith special guests TBA \nSaturday\, August 10th\, 20249:00 PM – 11:00 PMDoors open at 8:30Facebook event & more info \nIcon Event Hall402 N Main #dtsf** All seating first-come first-serve\n\n\n\n\n\n\n\n\n\n\n\n\n\n \n\n\n\nhttps://www.youtube.com/watch?v=EweYLwLh6hM
URL:https://collectiveeffortsunion.com/event/teddy-white-tee-comedy-icon/
LOCATION:Icon Event Hall – Sioux Falls\, 402 N Main Ave\, Sioux Falls\, SD\, 57104\, United States
CATEGORIES:Comedy Shows
ATTACH;FMTTYPE=image/jpeg:https://collectiveeffortsunion.com/wp-content/uploads/2024/06/teddywtsp.jpg
END:VEVENT
END:VCALENDAR