BEGIN:VCALENDAR
VERSION:2.0
PRODID:-//Collective Efforts Union - ECPv6.15.20//NONSGML v1.0//EN
CALSCALE:GREGORIAN
METHOD:PUBLISH
X-ORIGINAL-URL:https://collectiveeffortsunion.com
X-WR-CALDESC:Events for Collective Efforts Union
REFRESH-INTERVAL;VALUE=DURATION:PT1H
X-Robots-Tag:noindex
X-PUBLISHED-TTL:PT1H
BEGIN:VTIMEZONE
TZID:America/Chicago
BEGIN:DAYLIGHT
TZOFFSETFROM:-0600
TZOFFSETTO:-0500
TZNAME:CDT
DTSTART:20240310T080000
END:DAYLIGHT
BEGIN:STANDARD
TZOFFSETFROM:-0500
TZOFFSETTO:-0600
TZNAME:CST
DTSTART:20241103T070000
END:STANDARD
BEGIN:DAYLIGHT
TZOFFSETFROM:-0600
TZOFFSETTO:-0500
TZNAME:CDT
DTSTART:20250309T080000
END:DAYLIGHT
BEGIN:STANDARD
TZOFFSETFROM:-0500
TZOFFSETTO:-0600
TZNAME:CST
DTSTART:20251102T070000
END:STANDARD
BEGIN:DAYLIGHT
TZOFFSETFROM:-0600
TZOFFSETTO:-0500
TZNAME:CDT
DTSTART:20260308T080000
END:DAYLIGHT
BEGIN:STANDARD
TZOFFSETFROM:-0500
TZOFFSETTO:-0600
TZNAME:CST
DTSTART:20261101T070000
END:STANDARD
END:VTIMEZONE
BEGIN:VEVENT
DTSTART;TZID=America/Chicago:20250719T190000
DTEND;TZID=America/Chicago:20250719T220000
DTSTAMP:20260421T063459
CREATED:20250615T161817Z
LAST-MODIFIED:20250616T165405Z
UID:10000245-1752951600-1752962400@collectiveeffortsunion.com
SUMMARY:JERRY IRBY Drunk Comedy Show @ LUCKYS CLUB 224 w/ Zach Dresch & Colin K
DESCRIPTION:Jerry Irby is a Sioux Falls comic who been entertaining crowds with his clever and casual humor since 2020. An Air Force veteran born in Detroit and a frequent collaborator with the Vaudevil Caberet burlesque troupe\, Jerry has been voted Sioux Falls’ funniest comic 4 times and was a Sioux Falls Last Comic Standing finalist.\n\n \n \n\n\n\n\n\nw/ special guestsZach Dresch & hosted by Colin Katrenak \nZach Dresch is a stand up comedian perhaps best known for his role as the Flu Bug in SD Dept. of Health commercials. He is a member of the improvisational troupe Improv Falls\, as well as the drummer for many different groups including the Disarmed\, Aliens Do Exist\, the dueling pianos group Duel Purpose and way too many other bands to mention. He most recently won Sioux Falls’ Last Comic Standing last year\, and can be seen performing regularly around the Midwest. \n\nHailing from the far-off land of St. Louis MO\, your host Colin Katrenak is an absurdist comic who will make you feel right at home- somehow. A winner of the coveted Larry Brinkman Award\, Colin has lit up stages at The Improv Shop\, the Chicago Improv Festival\, and won Critic’s Choice at St. Lou Fringe.Facebook event & More Info \n\nSaturday\, July 19th\, 20258 PM – 10:00 PM CSTDoors open at 7:00Luckys Downtown – Club 224224 N Phillips Ave #dtsf** All seating first-come first-serve** Premier Seating is front 2 rows
URL:https://collectiveeffortsunion.com/event/jerry-irby-drunk-comedy-show-luckys-club-224-w-zach-dresch-colin-k/
LOCATION:Luckys 224 – Sioux Falls\, 224 S Phillips\, Sioux Falls\, SD\, 57104\, United States
CATEGORIES:Comedy Shows
ATTACH;FMTTYPE=image/jpeg:https://collectiveeffortsunion.com/wp-content/uploads/2024/02/Jerry3.jpg
END:VEVENT
END:VCALENDAR