BEGIN:VCALENDAR
VERSION:2.0
PRODID:-//Collective Efforts Union - ECPv6.15.20//NONSGML v1.0//EN
CALSCALE:GREGORIAN
METHOD:PUBLISH
X-ORIGINAL-URL:https://collectiveeffortsunion.com
X-WR-CALDESC:Events for Collective Efforts Union
REFRESH-INTERVAL;VALUE=DURATION:PT1H
X-Robots-Tag:noindex
X-PUBLISHED-TTL:PT1H
BEGIN:VTIMEZONE
TZID:America/Chicago
BEGIN:DAYLIGHT
TZOFFSETFROM:-0600
TZOFFSETTO:-0500
TZNAME:CDT
DTSTART:20240310T080000
END:DAYLIGHT
BEGIN:STANDARD
TZOFFSETFROM:-0500
TZOFFSETTO:-0600
TZNAME:CST
DTSTART:20241103T070000
END:STANDARD
BEGIN:DAYLIGHT
TZOFFSETFROM:-0600
TZOFFSETTO:-0500
TZNAME:CDT
DTSTART:20250309T080000
END:DAYLIGHT
BEGIN:STANDARD
TZOFFSETFROM:-0500
TZOFFSETTO:-0600
TZNAME:CST
DTSTART:20251102T070000
END:STANDARD
BEGIN:DAYLIGHT
TZOFFSETFROM:-0600
TZOFFSETTO:-0500
TZNAME:CDT
DTSTART:20260308T080000
END:DAYLIGHT
BEGIN:STANDARD
TZOFFSETFROM:-0500
TZOFFSETTO:-0600
TZNAME:CST
DTSTART:20261101T070000
END:STANDARD
END:VTIMEZONE
BEGIN:VEVENT
DTSTART;TZID=America/Chicago:20251204T190000
DTEND;TZID=America/Chicago:20251204T220000
DTSTAMP:20260421T161235
CREATED:20251111T155808Z
LAST-MODIFIED:20251123T034952Z
UID:10000263-1764874800-1764885600@collectiveeffortsunion.com
SUMMARY:SEAN JORDAN Comedy LIVE @ LUCKYS | Club 224 w/ Adam Goodge & Mara Jade
DESCRIPTION:Sean Jordan is a touring stand up comedian and podcaster who has appeared on Comedy Central\, The Late Late Show with James Corden and who Paste Magazine calls “both genuine and genuinely hilarious.” He co-hosts the wildly popular podcast All Fantasy Everything\, the show where funny people and experts come together to fantasy draft pop culture\, from music to movies to sandwiches. His latest stand up comedy album Girl Dad\, available from A Special Thing Records\, is a raw\, honest and hilarious special documenting the birth of his daughter\, the IVF that preceded it\, the vasectomy that followed\, and all points between. His newest podcast It’s Nice to Be Nice explores how someone “being nice” made a difference in the lives of his guests. You may also have heard Sean on podcasts like The Honeydew\, Doug Loves Movies\, Professor Blastoff\, The Crabfeast\, View from the Cheap Seats\, Put Your Hands Together and Alison Rosen is Your Best Friend. His young daughter recently lauded Sean’s ability to “be tall” and “carry me upside down so I can walk on the ceiling.” \n\n \nAdam Goodge treads the boundary between Visual Art and Stand-up Comedy\, combining his spoken material with accompanied illustrations. He blends a selection of humorous anecdotes with word play\, imitations and bizarre hypothetical scenarios. Adam is the conductor who will take you on an outlandish journey of the imagination keeping you enthralled and laughing at every stop!\n  \n\n\n\n\n\n\n+ Mara Jade has been involved in art\, theatre\, writing\, and music since their early childhood\, but this year\, they’ve taken a new avenue into stand-up comedy. Though in the beginnings of their career\, they already have developed a sarcastic and witty approach to joke-writing. Their light-hearted\, meta commentary on their bizarre upbringing and their experience being on the Autism spectrum highlight the humour of their non-traditional life circumstances.Facebook event & More Info\n \n\nThursday\, December 4th\, 20258 PM – 10:00 PM CSTDoors open at 7:00Luckys Downtown – Club 224224 N Phillips Ave #dtsf** All seating first-come first-serve** Premier Seating is front 2 rows
URL:https://collectiveeffortsunion.com/event/sean-jordan-comedy-live-luckys-club-224/
LOCATION:Luckys 224 – Sioux Falls\, 224 S Phillips\, Sioux Falls\, SD\, 57104\, United States
CATEGORIES:Comedy Shows,Featured Event
ATTACH;FMTTYPE=image/jpeg:https://collectiveeffortsunion.com/wp-content/uploads/2025/11/120425-SeanJordan.jpg
END:VEVENT
END:VCALENDAR