BEGIN:VCALENDAR
VERSION:2.0
PRODID:-//Collective Efforts Union - ECPv6.15.20//NONSGML v1.0//EN
CALSCALE:GREGORIAN
METHOD:PUBLISH
X-WR-CALNAME:Collective Efforts Union
X-ORIGINAL-URL:https://collectiveeffortsunion.com
X-WR-CALDESC:Events for Collective Efforts Union
REFRESH-INTERVAL;VALUE=DURATION:PT1H
X-Robots-Tag:noindex
X-PUBLISHED-TTL:PT1H
BEGIN:VTIMEZONE
TZID:America/Chicago
BEGIN:DAYLIGHT
TZOFFSETFROM:-0600
TZOFFSETTO:-0500
TZNAME:CDT
DTSTART:20250309T080000
END:DAYLIGHT
BEGIN:STANDARD
TZOFFSETFROM:-0500
TZOFFSETTO:-0600
TZNAME:CST
DTSTART:20251102T070000
END:STANDARD
BEGIN:DAYLIGHT
TZOFFSETFROM:-0600
TZOFFSETTO:-0500
TZNAME:CDT
DTSTART:20260308T080000
END:DAYLIGHT
BEGIN:STANDARD
TZOFFSETFROM:-0500
TZOFFSETTO:-0600
TZNAME:CST
DTSTART:20261101T070000
END:STANDARD
BEGIN:DAYLIGHT
TZOFFSETFROM:-0600
TZOFFSETTO:-0500
TZNAME:CDT
DTSTART:20270314T080000
END:DAYLIGHT
BEGIN:STANDARD
TZOFFSETFROM:-0500
TZOFFSETTO:-0600
TZNAME:CST
DTSTART:20271107T070000
END:STANDARD
END:VTIMEZONE
BEGIN:VEVENT
DTSTART;TZID=America/Chicago:20260321T190000
DTEND;TZID=America/Chicago:20260321T220000
DTSTAMP:20260423T121410
CREATED:20260201T220816Z
LAST-MODIFIED:20260207T001926Z
UID:10000273-1774119600-1774130400@collectiveeffortsunion.com
SUMMARY:JAMIE CAMPBELL Comedy @ LUCKYS CLUB 224 w/ John Small
DESCRIPTION:You may recognize Jamie Campbell from his recent Dry Bar Comedy special\, Middle Man\, or from his appearances on NBC’s Chicago Fire\, Pop TV’s Hollywood Darlings\, or the Emmy-nominated ABC series Boondoggle.He specializes in accessible humor that finds light in even the darkest of places. Despite a traumatic upbringing Jamie Campbell grew up to be a well-adjusted guy married to the nicest girl in the Midwest.\n \nA touring comedian based out of Kansas City\, Jamie Campbell brings big laughs and positive vibes to stages all over the United States. His independent streaming special\, Big Dad Energy\, was named “Best Stand-Up Special” at Laugh After Dark ComedyFest\, and is available on Amazon Prime Video. Jamie is one of the stars of Gingerbread Men\, a holiday feature from Clearlight Entertainment\, which will hit theaters next Christmas. He is also an award-winning screenwriter who recently sold a horror script\, Sneakerhead\, to Torfoot entertainment group.\n  \n\n\nWith special guests John Small & Jacob Womack\n \nFacebook Event + More Info\n \nSaturday\, March 21st\, 20268 PM – 10:00 PM CSTDoors open at 7:00Luckys Downtown – Club 224224 N Phillips Ave #dtsf** All seating first-come first-serve** Premier Seating is front 2 rows
URL:https://collectiveeffortsunion.com/event/jamie-campbell-comedy-luckys-club-224-w-john-small/
LOCATION:Luckys 224 – Sioux Falls\, 224 S Phillips\, Sioux Falls\, SD\, 57104\, United States
CATEGORIES:Comedy Shows
ATTACH;FMTTYPE=image/png:https://collectiveeffortsunion.com/wp-content/uploads/2026/02/Screenshot-2026-02-01-at-3.59.08-PM.png
END:VEVENT
END:VCALENDAR