BEGIN:VCALENDAR
VERSION:2.0
PRODID:-//Collective Efforts Union - ECPv6.15.20//NONSGML v1.0//EN
CALSCALE:GREGORIAN
METHOD:PUBLISH
X-WR-CALNAME:Collective Efforts Union
X-ORIGINAL-URL:https://collectiveeffortsunion.com
X-WR-CALDESC:Events for Collective Efforts Union
REFRESH-INTERVAL;VALUE=DURATION:PT1H
X-Robots-Tag:noindex
X-PUBLISHED-TTL:PT1H
BEGIN:VTIMEZONE
TZID:America/Chicago
BEGIN:DAYLIGHT
TZOFFSETFROM:-0600
TZOFFSETTO:-0500
TZNAME:CDT
DTSTART:20250309T080000
END:DAYLIGHT
BEGIN:STANDARD
TZOFFSETFROM:-0500
TZOFFSETTO:-0600
TZNAME:CST
DTSTART:20251102T070000
END:STANDARD
BEGIN:DAYLIGHT
TZOFFSETFROM:-0600
TZOFFSETTO:-0500
TZNAME:CDT
DTSTART:20260308T080000
END:DAYLIGHT
BEGIN:STANDARD
TZOFFSETFROM:-0500
TZOFFSETTO:-0600
TZNAME:CST
DTSTART:20261101T070000
END:STANDARD
BEGIN:DAYLIGHT
TZOFFSETFROM:-0600
TZOFFSETTO:-0500
TZNAME:CDT
DTSTART:20270314T080000
END:DAYLIGHT
BEGIN:STANDARD
TZOFFSETFROM:-0500
TZOFFSETTO:-0600
TZNAME:CST
DTSTART:20271107T070000
END:STANDARD
END:VTIMEZONE
BEGIN:VEVENT
DTSTART;TZID=America/Chicago:20260327T190000
DTEND;TZID=America/Chicago:20260327T220000
DTSTAMP:20260423T121451
CREATED:20260203T043329Z
LAST-MODIFIED:20260209T153647Z
UID:10000274-1774638000-1774648800@collectiveeffortsunion.com
SUMMARY:MONICA NEVI Comedy @ LUCKYS CLUB 224 w/ Koerner & Jocelyn Abad
DESCRIPTION:Monica Nevi is regularly touring nationally and internationally and can be seen performing in clubs\, colleges\, and theaters across the country. The Seattle-based comedian’s debut special “Big Stepdad Energy” (Helium Studios) released in October 2022\, and was immediately voted top 50 specials of the year by We Own The Laughs magazine.\nShe has appeared on FOX’s nationally syndicated TV show ‘Laughs’ and ESPN’s Sports Center\, as well as Seattle based television programs ‘New Day Northwest’ and ‘[the 206]’ Monica released her documentary series ’80 For 80′ on Amazon Prime Video this year where she hosts and interviews hilarious short episodes with people over the age of 80. It is available now on YouTube. \n \nShe debuted two albums in late 2020 within one month of each other. Her first standup album\, Mostly Finger Guns followed by her debut comedic guided meditation Chill. Both went #1 on the comedy charts.\n  \n\n\n\n\n\nWith special guests Koerner & hosted by Jocelyn Abad\n \n\nFacebook Event + More Info\n\n \n\n\nFriday\, March 27th\, 20268 PM – 10:00 PM CSTDoors open at 7:00\nLuckys Downtown – Club 224224 N Phillips Ave #dtsf** All seating first-come first-serve** Premier Seating is front row seating
URL:https://collectiveeffortsunion.com/event/monica-nevi-comedy-luckys-club-224/
LOCATION:Luckys 224 – Sioux Falls\, 224 S Phillips\, Sioux Falls\, SD\, 57104\, United States
CATEGORIES:Comedy Shows
ATTACH;FMTTYPE=image/jpeg:https://collectiveeffortsunion.com/wp-content/uploads/2026/02/mn2-scaled.jpg
END:VEVENT
END:VCALENDAR