BEGIN:VCALENDAR
VERSION:2.0
PRODID:-//Collective Efforts Union - ECPv6.15.20//NONSGML v1.0//EN
CALSCALE:GREGORIAN
METHOD:PUBLISH
X-ORIGINAL-URL:https://collectiveeffortsunion.com
X-WR-CALDESC:Events for Collective Efforts Union
REFRESH-INTERVAL;VALUE=DURATION:PT1H
X-Robots-Tag:noindex
X-PUBLISHED-TTL:PT1H
BEGIN:VTIMEZONE
TZID:America/Chicago
BEGIN:DAYLIGHT
TZOFFSETFROM:-0600
TZOFFSETTO:-0500
TZNAME:CDT
DTSTART:20230312T080000
END:DAYLIGHT
BEGIN:STANDARD
TZOFFSETFROM:-0500
TZOFFSETTO:-0600
TZNAME:CST
DTSTART:20231105T070000
END:STANDARD
BEGIN:DAYLIGHT
TZOFFSETFROM:-0600
TZOFFSETTO:-0500
TZNAME:CDT
DTSTART:20240310T080000
END:DAYLIGHT
BEGIN:STANDARD
TZOFFSETFROM:-0500
TZOFFSETTO:-0600
TZNAME:CST
DTSTART:20241103T070000
END:STANDARD
BEGIN:DAYLIGHT
TZOFFSETFROM:-0600
TZOFFSETTO:-0500
TZNAME:CDT
DTSTART:20250309T080000
END:DAYLIGHT
BEGIN:STANDARD
TZOFFSETFROM:-0500
TZOFFSETTO:-0600
TZNAME:CST
DTSTART:20251102T070000
END:STANDARD
END:VTIMEZONE
BEGIN:VEVENT
DTSTART;TZID=America/Chicago:20240610T190000
DTEND;TZID=America/Chicago:20240610T220000
DTSTAMP:20260422T043333
CREATED:20240531T214938Z
LAST-MODIFIED:20240608T175052Z
UID:10000122-1718046000-1718056800@collectiveeffortsunion.com
SUMMARY:SENSOR GHOST & RED MAKER @ The Den
DESCRIPTION:SENSOR GHOST\n \n\n \n\n\n\n\n\nSensor Ghost is an art-punk trio from Washington\, D.C. \n\nhttps://sensorghost.bandcamp.com/ \nRED MAKER \nhttps://www.facebook.com/redmakerband \nFacebook RSVP & more info\n\nMonday\, June 10th\, 2024\nDoors 7:00 PM | Show 8:00 PM\n\nTHE DEN – FREE SHOW!\n\n 
URL:https://collectiveeffortsunion.com/event/sensor-ghost-chara-the-den/
LOCATION:The Den – Sioux Falls\, 909 N West Ave\, Sioux Falls\, SD\, 57104\, United States
CATEGORIES:Featured Event,Music Shows
ATTACH;FMTTYPE=image/jpeg:https://collectiveeffortsunion.com/wp-content/uploads/2024/05/061024-SensorGhost3.jpg
END:VEVENT
BEGIN:VEVENT
DTSTART;TZID=America/Chicago:20240615T200000
DTEND;TZID=America/Chicago:20240615T230000
DTSTAMP:20260422T043333
CREATED:20240326T144533Z
LAST-MODIFIED:20240403T174952Z
UID:10000108-1718481600-1718492400@collectiveeffortsunion.com
SUMMARY:BOB ZANY COMEDY @ ICON
DESCRIPTION:With special guest Alex Bryson & John SmallHosted by Alisha Rayne \nSaturday\, June 15th\, 20249:00 PM – 10:30 PM CSTDoors open at 8:00Icon Event Hall402 N Main #dtsf \nFacebook event & more info** All seating first-come first-servePremier seating front 20% of room
URL:https://collectiveeffortsunion.com/event/bob-zany-comedy-icon/
LOCATION:Icon Event Hall – Sioux Falls\, 402 N Main Ave\, Sioux Falls\, SD\, 57104\, United States
CATEGORIES:Comedy Shows,Featured Event
ATTACH;FMTTYPE=image/jpeg:https://collectiveeffortsunion.com/wp-content/uploads/2024/03/Zany-Report-at-Desk2.jpg
END:VEVENT
BEGIN:VEVENT
DTSTART;TZID=America/Chicago:20240619T190000
DTEND;TZID=America/Chicago:20240619T223000
DTSTAMP:20260422T043333
CREATED:20240114T055732Z
LAST-MODIFIED:20240223T220851Z
UID:10000085-1718823600-1718836200@collectiveeffortsunion.com
SUMMARY:THE SPILL CANVAS - 20TH ANNIVERSARY TOUR
DESCRIPTION:w/ LILAC JAM & THE DISARMED \n \n\nDoors 7:00 PM | Show 8:00 PM\n\nWednesday\, June 19th\, 2024\n\n$25 Advance | $30 Day-of-Show\n\n\nFacebook RSVP + More Info
URL:https://collectiveeffortsunion.com/event/the-spill-canvas-20th-anniversary-tour/
LOCATION:Icon Event Hall – Sioux Falls\, 402 N Main Ave\, Sioux Falls\, SD\, 57104\, United States
CATEGORIES:Featured Event,Music Shows
ATTACH;FMTTYPE=image/jpeg:https://collectiveeffortsunion.com/wp-content/uploads/2024/01/spillpromo6.jpg
END:VEVENT
END:VCALENDAR