BEGIN:VCALENDAR
VERSION:2.0
PRODID:-//Collective Efforts Union - ECPv6.15.20//NONSGML v1.0//EN
CALSCALE:GREGORIAN
METHOD:PUBLISH
X-ORIGINAL-URL:https://collectiveeffortsunion.com
X-WR-CALDESC:Events for Collective Efforts Union
REFRESH-INTERVAL;VALUE=DURATION:PT1H
X-Robots-Tag:noindex
X-PUBLISHED-TTL:PT1H
BEGIN:VTIMEZONE
TZID:America/Chicago
BEGIN:DAYLIGHT
TZOFFSETFROM:-0600
TZOFFSETTO:-0500
TZNAME:CDT
DTSTART:20240310T080000
END:DAYLIGHT
BEGIN:STANDARD
TZOFFSETFROM:-0500
TZOFFSETTO:-0600
TZNAME:CST
DTSTART:20241103T070000
END:STANDARD
BEGIN:DAYLIGHT
TZOFFSETFROM:-0600
TZOFFSETTO:-0500
TZNAME:CDT
DTSTART:20250309T080000
END:DAYLIGHT
BEGIN:STANDARD
TZOFFSETFROM:-0500
TZOFFSETTO:-0600
TZNAME:CST
DTSTART:20251102T070000
END:STANDARD
BEGIN:DAYLIGHT
TZOFFSETFROM:-0600
TZOFFSETTO:-0500
TZNAME:CDT
DTSTART:20260308T080000
END:DAYLIGHT
BEGIN:STANDARD
TZOFFSETFROM:-0500
TZOFFSETTO:-0600
TZNAME:CST
DTSTART:20261101T070000
END:STANDARD
END:VTIMEZONE
BEGIN:VEVENT
DTSTART;TZID=America/Chicago:20250110T200000
DTEND;TZID=America/Chicago:20250110T233000
DTSTAMP:20260421T172715
CREATED:20241125T224016Z
LAST-MODIFIED:20250110T235652Z
UID:10000213-1736539200-1736551800@collectiveeffortsunion.com
SUMMARY:American Slang & Emerald Skies @ ICON
DESCRIPTION:Unfortunately\, due to west river weather – TDR has cancelled – American Slang and Emerald Skies will still rock the ICON tonight! Partial refunds ($10 door) to those who still want to rock.Full refunds at point of purchase if you prefer.\n\nAmerican Slang is a Rapidly Rising Teenage Shred Dirt Band based out of Oklahoma City. These teens are packing out rooms across Oklahoma\, Texas\, Arizona and beyond. They’ve taken the stage with company the likes of Read Southall Band\, Giovannie and The Hired Guns\, Kody West\, Dylan Wheeler\, and many more. Their electrifying stage presence is unlike anything southern rock has seen to date. American Slang is creating their own wave and burning down every room from East to West.\nIG – @americanslangusaTikTok – @americanslang_www.americanslang.com\nw/ Emerald Skies\n\n$10\n\nFriday\, January 10th\, 2025Doors 8:00 PM | Show 9:00 PMIcon Event Hall\nFacebook event & more info \nFriday\, January 10th\, 2025\nDoors 8:00 PM | Show 9:00 PM\nIcon Event Hall\n \n 
URL:https://collectiveeffortsunion.com/event/them-dirty-roses-icon/
LOCATION:Icon Event Hall – Sioux Falls\, 402 N Main Ave\, Sioux Falls\, SD\, 57104\, United States
CATEGORIES:Featured Event,Music Shows
ATTACH;FMTTYPE=image/jpeg:https://collectiveeffortsunion.com/wp-content/uploads/2024/11/TDR-Stairs-Close.jpg
END:VEVENT
BEGIN:VEVENT
DTSTART;TZID=America/Chicago:20250111T190000
DTEND;TZID=America/Chicago:20250111T220000
DTSTAMP:20260421T172715
CREATED:20240401T080052Z
LAST-MODIFIED:20250106T045226Z
UID:10000109-1736622000-1736632800@collectiveeffortsunion.com
SUMMARY:2024's Funniest Comic of the Year @ Icon Event Hall
DESCRIPTION:2024’s Funniest Comedian of the Year!\n\nHosted by Dave Holly\n\nDave hosts a local podcast about Sioux Empire Arts & Entertainment and has had several comics on the show. He also cohosts and coproduces a Variety how called The Vaudies—Modern-Day Vaudeville where each show has a different cast but always includes a comic. He’s a comedy lover & supporter with over 20 years of Improv experience\, he’s also dabbled in standup by hosting\, opening and featuring.\n\nFeaturing your monthly Larry Brinkman Award Winners:\nKoerner\nDan Snowberger\nPreston Williams\nEric The Green\nSara Manson\nJacob Womack\nAdam Goodge\nTony Tubes\nJocelyn Abad\nZach Dresch\n\nContest Rules:\n7 min max – feel free to stop whenever you like. You will be given a light at 6 minutes and disqualified if you go over 7.\n* Must be present at award presentation to win.\nComedians are judged on:\nStage Persona – Comedian has a strong stage presence and unique style\nCreative Material – Original jokes\nCrowd Reaction – Laughs\, gasps\, boos\, crying\, etc.\nMemorization of Lines – Jokes not forgotten or stumbled over\, no notes on stage\nProfessionalism – Entering & exiting stage\, works entire room\, head up & projection of voice\, mic handling\n\nFacebook event + More Info \nSaturday\, January 11th\, 20258\n8:00 PM – 10:00 PM\nDoors open at 7:00 \nIcon Event Hall\n402 N Main #dtsf \n** All seating first-come first-serve\n** Premier Seating is front 10%
URL:https://collectiveeffortsunion.com/event/2024s-funniest-comic-of-the-year-icon-event-hall/
LOCATION:Icon Event Hall – Sioux Falls\, 402 N Main Ave\, Sioux Falls\, SD\, 57104\, United States
CATEGORIES:Comedy Shows,Featured Event
ATTACH;FMTTYPE=image/jpeg:https://collectiveeffortsunion.com/wp-content/uploads/2024/04/2024-Funniest-Person-banner.jpg
END:VEVENT
END:VCALENDAR