BEGIN:VCALENDAR
VERSION:2.0
PRODID:-//Collective Efforts Union - ECPv6.15.20//NONSGML v1.0//EN
CALSCALE:GREGORIAN
METHOD:PUBLISH
X-WR-CALNAME:Collective Efforts Union
X-ORIGINAL-URL:https://collectiveeffortsunion.com
X-WR-CALDESC:Events for Collective Efforts Union
REFRESH-INTERVAL;VALUE=DURATION:PT1H
X-Robots-Tag:noindex
X-PUBLISHED-TTL:PT1H
BEGIN:VTIMEZONE
TZID:America/Chicago
BEGIN:DAYLIGHT
TZOFFSETFROM:-0600
TZOFFSETTO:-0500
TZNAME:CDT
DTSTART:20240310T080000
END:DAYLIGHT
BEGIN:STANDARD
TZOFFSETFROM:-0500
TZOFFSETTO:-0600
TZNAME:CST
DTSTART:20241103T070000
END:STANDARD
BEGIN:DAYLIGHT
TZOFFSETFROM:-0600
TZOFFSETTO:-0500
TZNAME:CDT
DTSTART:20250309T080000
END:DAYLIGHT
BEGIN:STANDARD
TZOFFSETFROM:-0500
TZOFFSETTO:-0600
TZNAME:CST
DTSTART:20251102T070000
END:STANDARD
BEGIN:DAYLIGHT
TZOFFSETFROM:-0600
TZOFFSETTO:-0500
TZNAME:CDT
DTSTART:20260308T080000
END:DAYLIGHT
BEGIN:STANDARD
TZOFFSETFROM:-0500
TZOFFSETTO:-0600
TZNAME:CST
DTSTART:20261101T070000
END:STANDARD
END:VTIMEZONE
BEGIN:VEVENT
DTSTART;TZID=America/Chicago:20250417T200000
DTEND;TZID=America/Chicago:20250417T233000
DTSTAMP:20260421T131048
CREATED:20250114T225958Z
LAST-MODIFIED:20250416T012519Z
UID:10000220-1744920000-1744932600@collectiveeffortsunion.com
SUMMARY:GRIEVES w/ DENHAM - CANCELLED
DESCRIPTION:Screenshot \n\n\n\n  \n 
URL:https://collectiveeffortsunion.com/event/the-return-of-grieves-icon/
LOCATION:Icon Event Hall – Sioux Falls\, 402 N Main Ave\, Sioux Falls\, SD\, 57104\, United States
CATEGORIES:Featured Event,Music Shows
ATTACH;FMTTYPE=image/jpeg:https://collectiveeffortsunion.com/wp-content/uploads/2025/01/041725-Grieves-Denham-Wide.jpg
END:VEVENT
BEGIN:VEVENT
DTSTART;TZID=America/Chicago:20250418T190000
DTEND;TZID=America/Chicago:20250419T190000
DTSTAMP:20260421T131048
CREATED:20250201T234643Z
LAST-MODIFIED:20250414T220233Z
UID:10000227-1745002800-1745089200@collectiveeffortsunion.com
SUMMARY:STEVE GILLESPIE / DOSE PSYCHEDELIC COMEDY SHOW @ LUCKYS CLUB 224
DESCRIPTION:THE DOSE: A PSYCHEDELIC COMEDY SHOW (Bicycle Day Edition) \nA mind-bending journey of experimentation\, laughter\, and healing. Set in a vibrant and surreal venue\, THE DOSE is a fully immersive psychedelic experience featuring a carefully curated line-up of some of the best comedians in the country (seen on HBO\, Comedy Central\, Late Night\, Netflix\, Don’t Tell\, and more!). \nAt THE DOSE we facilitate the perfect set and setting for both the comedians and the audience to find the funny within their expanding minds. Our Master of Ceremonies and creator of THE DOSE is Steven Gillespie (CONAN\, AMAZON PRIME)\, a nationally touring stand-up comedian and a psychedelic connoisseur. \nCome take a trip with us as we transcend the ordinary\, dance on the edges of perception\, and explore the healing properties of our boundless imaginations.  And also to just laugh and be silly 🙂 \nThe show also features our very own DJ and she will play before\, during\, and sometimes even after the show! Don’t miss the pre-show DJ set (starts at 7pm doors)\, its becoming more and more popular. \nTHE DOSE: We’ll Take Ours. Don’t Forget yours.  \n—————————————————————— \nTICKETS\nGeneral Admission – $20 Online | $25 At The Door \nThe General Admission ticket gives you guaranteed admission to the show\, with seat selection on a first served basis the night of the show upon arrival. \nVIP SEATING – $30 Online Advance Only \nThe VIP Seating ticket gives you a guaranteed seat at the event in the front row of tables at the venue . Your seat will be reserved and held for you no matter what time you make it to the venue. If you want to sit with a group\, make sure you buy all of the tickets in one order to guarantee that. \n——————————————————————- \nDETAILS\nFRIDAY April 18th  8pm (7pm Doors/Preshow DJ Set)\nSATURDAY APRIL 19th  8pm (7pm Doors/Preshow DJ Set) \nLucky’s \n224 S Phillips Ave\nSioux Falls\, SD 57104\n\n\n  \n \n\n\n\n\n\n\n \n\n\nFacebook Event & More InfoFriday & Saturday\, April 18-19th\, 20258 PM – 10:00 PM CSTDoors open at 7:00 \nLuckys Downtown – Club 224224 N Phillips Ave #dtsf** All seating first-come first-serve** Premier Seating is front 2 rows
URL:https://collectiveeffortsunion.com/event/steve-gillespie-dose-psychedelic-comedy-show-luckys-club-224/
LOCATION:Luckys 224 – Sioux Falls\, 224 S Phillips\, Sioux Falls\, SD\, 57104\, United States
CATEGORIES:Comedy Shows,Featured Event
ATTACH;FMTTYPE=image/png:https://collectiveeffortsunion.com/wp-content/uploads/2025/02/Sioux-Falls-Eventbrite-Banner-.png
END:VEVENT
BEGIN:VEVENT
DTSTART;TZID=America/Chicago:20250429T190000
DTEND;TZID=America/Chicago:20250429T233000
DTSTAMP:20260421T131048
CREATED:20241115T142227Z
LAST-MODIFIED:20250321T212215Z
UID:10000206-1745953200-1745969400@collectiveeffortsunion.com
SUMMARY:LAURA JANE GRACE AND THE MISSISSIPPI MEDICALS @ ICON
DESCRIPTION:Laura Jane Grace is a major figure in today’s rock scene as both a solo artist and the front person of Against Me!\, which she founded in Naples\, FL in the late 1990s. As a working artist\, she has released six solo offerings and seven albums with Against Me!\, and in 2012 went public with her gender transition in the pages of Rolling Stone. In her music\, she continues to detail her journey all while staying true to her earlier themes of outspoken political critique – environmentalism along with personal and social liberation – with a base in American music including country and folk-rock\, with a penchant for noise and anarchy. Laura Jane will be joined by her band “The Mississippi Medicals” featuring Matt Patton of Drive-By Truckers (bass)\, Mikey Erg of The Ergs (drums) and Paris Campbell Grace (vocals\, percussion). \nhttps://www.laurajanegrace.com/ \n\n\nw/ Alex Lahey & Rodeo Boys \nFacebook RSVP & more info \nTuesday\, April 29th\, 2025\nDoors 7:00 PM | Show 8:00 PM\nIcon Event Hall\nALL AGES \n 
URL:https://collectiveeffortsunion.com/event/laura-jane-grace-and-the-mississippi-medicals-icon/
LOCATION:Icon Event Hall – Sioux Falls\, 402 N Main Ave\, Sioux Falls\, SD\, 57104\, United States
CATEGORIES:Featured Event,Music Shows
ATTACH;FMTTYPE=image/png:https://collectiveeffortsunion.com/wp-content/uploads/2024/11/ljgatmm_Square-1.psd-2-e1733842306642.png
END:VEVENT
END:VCALENDAR