BEGIN:VCALENDAR
VERSION:2.0
PRODID:-//Collective Efforts Union - ECPv6.15.20//NONSGML v1.0//EN
CALSCALE:GREGORIAN
METHOD:PUBLISH
X-WR-CALNAME:Collective Efforts Union
X-ORIGINAL-URL:https://collectiveeffortsunion.com
X-WR-CALDESC:Events for Collective Efforts Union
REFRESH-INTERVAL;VALUE=DURATION:PT1H
X-Robots-Tag:noindex
X-PUBLISHED-TTL:PT1H
BEGIN:VTIMEZONE
TZID:America/Chicago
BEGIN:DAYLIGHT
TZOFFSETFROM:-0600
TZOFFSETTO:-0500
TZNAME:CDT
DTSTART:20240310T080000
END:DAYLIGHT
BEGIN:STANDARD
TZOFFSETFROM:-0500
TZOFFSETTO:-0600
TZNAME:CST
DTSTART:20241103T070000
END:STANDARD
BEGIN:DAYLIGHT
TZOFFSETFROM:-0600
TZOFFSETTO:-0500
TZNAME:CDT
DTSTART:20250309T080000
END:DAYLIGHT
BEGIN:STANDARD
TZOFFSETFROM:-0500
TZOFFSETTO:-0600
TZNAME:CST
DTSTART:20251102T070000
END:STANDARD
BEGIN:DAYLIGHT
TZOFFSETFROM:-0600
TZOFFSETTO:-0500
TZNAME:CDT
DTSTART:20260308T080000
END:DAYLIGHT
BEGIN:STANDARD
TZOFFSETFROM:-0500
TZOFFSETTO:-0600
TZNAME:CST
DTSTART:20261101T070000
END:STANDARD
END:VTIMEZONE
BEGIN:VEVENT
DTSTART;TZID=America/Chicago:20250612T200000
DTEND;TZID=America/Chicago:20250612T233000
DTSTAMP:20260421T102022
CREATED:20250611T021619Z
LAST-MODIFIED:20250612T034445Z
UID:10000244-1749758400-1749771000@collectiveeffortsunion.com
SUMMARY:MILLION MILER (Plain White T's singer side project) @ ICON
DESCRIPTION:  \nMillion Miler is the solo project of Tom Higgenson\, the singer and songwriter of the multi-platinum\, Grammy-nominated band Plain White T’s. With this passion project\, Higgenson blends influences ranging from 80’s synthpop\, 2000’s emo\, and modern day hyperpop\, to truly create something fresh and unique. Adding in that signature blend of honest and vulnerable lyrics he is known and celebrated for\, the Million Miler experience will have you wanting to dance and fall in love at the same time. \nhttps://www.millionmilermusic.com/ \n \nw/ special guests:\nTimothy Howls from Plain White T’s\nJaret Ray Reddick from Bowling for Soup\n+ Aliens Do Exist \n\n\n\nFacebook event & more info \nThursday\, June 12th\, 2025\nDoors 8:00 PM | Show 9:00 PM\nIcon Events | DaDa \n  \n 
URL:https://collectiveeffortsunion.com/event/million-miler-plain-white-ts-singer-side-project-icon/
LOCATION:Icon Event Hall – Sioux Falls\, 402 N Main Ave\, Sioux Falls\, SD\, 57104\, United States
CATEGORIES:Featured Event,Music Shows
ATTACH;FMTTYPE=image/png:https://collectiveeffortsunion.com/wp-content/uploads/2025/06/Screenshot-2025-06-10-at-7.23.23.png
END:VEVENT
BEGIN:VEVENT
DTSTART;TZID=America/Chicago:20250620T200000
DTEND;TZID=America/Chicago:20250620T233000
DTSTAMP:20260421T102022
CREATED:20250515T190225Z
LAST-MODIFIED:20250617T064102Z
UID:10000240-1750449600-1750462200@collectiveeffortsunion.com
SUMMARY:TELEKINETIC YETI returns to BIGS w/ Temple of the Fuzz Witch
DESCRIPTION:Based out of Iowa\, Telekinetic Yeti is a two-man band that delivers sonic brutality melded with psychedelic doom wizardry\, forged by the worship of the almighty riff and honed by relentless touring and dedication to their craft. \nCreating music as cryptically enchanting as it is heavy\, you wouldn’t guess that the impressive cacophony pouring out of the speakers like molten\, metal syrup is being produced by only two people. Founder and guitarist Alex Baumann explains\, “Originally I decided not to have a bass player purely for logistical reasons\, it was just another schedule to work around\, another person who’s boss could tell us we can’t tour\, but then I started seeing it as a challenge\, like let’s see how heavy we can make it with just two people.” That started grabbing peoples attention. \n \nRelentless touring and playing pretty much any club that would have them\, the band set sail on their epic voyage\, selling their debut album Abominable out of their van and cutting their teeth in the underground playing hundreds of shows. All the while receiving rave reviews of their live performance as well as their first release\, which landed at #2 on the doom charts and stayed right there for months. The Sludgelord called the eight-song album “a f***ing monster from start to finish\,” and The Obelisk\, including the album in their year-end\, best of list\, dubbed it the “debut of the year\,” and said “it could have been another band’s second or third record for the level of cohesion on display.”  \nThe video for “Stoned and Feathered” racked up nearly a few hundred thousand views and counting. It was at this time that Telekinetic Yeti caught the attention of Ozzy Osbourne bass player\, Blasko\, who named Abominable on his “5 favorites” list.  \nPeople were starting to catch on\, and soon thereafter Telekinetic Yeti would be invited to tour extensively with some of the best heavy rock bands in the business\, including Clutch\, Black Label Society\, Red Fang and Weedeater. \nNow the band finds itself in a much different\, auspicious position\, and with the help of famed producer Phillip Cope (Baroness\, Kylesa\, Damad\, Black Tusk et al)\, Telekinetic \nYeti returns with their eagerly-anticipated\, second full-length album\, Primordial. With this release\, the band takes their game to a whole new level. Primordial explores themes as diverse as evolution\, sorcery\, black magic and the contradictions of the gloriously uplifting yet simultaneously melancholic human condition. ” I wanted to write something that was an appropriate intro to the album\, that brought to mind an early earth setting and featured atmospheric elements as well as some droning\, sparse simplicity and lyrically\, simple imagery regarding the dawn of humankind and creation of the first tools.” Explains Baumann of the title track. \nAs it unfolds\, the album evolves into a cathartic exploration turning themes into tangible sounds and haunting fugues. Says Baumann regarding the inspiration behind “Beast”: “This song is about wanting to escape the societal constraints that keep us on the wheel\, toiling away\, indefinitely. Its also about questioning authority figures\, or really anyone that claims to have all the answers.” \nMatured songwriting\, creatively brutal riffs and an exercise in monstrous tones make this listen an immersive experience taking you back to explore and appreciate the primordial ooze that we all came from. Telekinetic Yeti has partnered with stalwart Indie label\, Tee Pee Records. \nTelekinetic Yeti is:\nAlex Baumann – Guitar/Vocals\nRockwel Heim – Drums \n\nw/ special guests: Temple of the Fuzz Witch\, Beer Goblins\, & The Beasts of Huldor \n \n\n\n\nFacebook event & more info \nFriday\, June 20th\, 2025\nDoors 8:00 PM | Show 9:00 PM\nBIGS \n 
URL:https://collectiveeffortsunion.com/event/telekinetic-yeti-returns-to-bigs-w-kamru-more/
LOCATION:BIGS – Sioux Falls\, 3110 w 12th St\, SIOUX FALLS\, SD\, 57104\, United States
CATEGORIES:Featured Event,Music Shows
ATTACH;FMTTYPE=image/jpeg:https://collectiveeffortsunion.com/wp-content/uploads/2025/05/rsw_3840m.jpg
END:VEVENT
BEGIN:VEVENT
DTSTART;TZID=America/Chicago:20250628T190000
DTEND;TZID=America/Chicago:20250628T233000
DTSTAMP:20260421T102022
CREATED:20250313T212607Z
LAST-MODIFIED:20250627T224200Z
UID:10000231-1751137200-1751153400@collectiveeffortsunion.com
SUMMARY:Amigo The Devil @ ICON
DESCRIPTION:In the vast realm of modern folk and alternative rock\, Amigo The Devil is an artist who channels a voice of unsettling beauty and raw truth.\nNestled within the corners of his haunting melodies and daring experimentation is a tale as profound as the dirges he sings.\nDespite his growing notoriety\, Amigo the Devil remains enigmatic. He isn’t one to bask in the limelight\, choosing once again to let the music speak for itself. \nhttps://www.amigothedevil.com/ \n\n\n\nw/ David Talley \nDavid Talley is a singer-songwriter whose music blends deep storytelling with a unique mix of genres\, drawn from his roots in Medellín\, Colombia\, and his upbringing in Quito\, Ecuador.  David began his musical journey at the age of 15\, picking up the guitar and eventually earning a scholarship to continue his education in music. For a decade\, he fronted his own band\, The Hardin Draw\, honing his craft before stepping into his current role as lead guitarist for the widely acclaimed Amigo The Devil. After nearly two decades of dedication to his music and songwriting\, David is now preparing to share his own original work with the world. His writing is raw\, compelling\, and authentic—fusing the smooth crooning style of 1950s ballads with the haunting melodies of old westerns and folk. Whether it’s the introspective depth of his lyrics or the captivating soundscapes he creates\, David’s music speaks to the heart and soul. With a sound that’s equal parts uplifting and reflective\, David Talley is an artist poised to leave a lasting mark on the music world.\nFacebook RSVP & more info \nSaturday\, June 28th\, 2025\nDoors 7:00 PM | Show 8:00 PM\nIcon Event Hall\nALL AGES \n 
URL:https://collectiveeffortsunion.com/event/amigo-the-devil-icon/
LOCATION:Icon Event Hall – Sioux Falls\, 402 N Main Ave\, Sioux Falls\, SD\, 57104\, United States
CATEGORIES:Featured Event,Music Shows
ATTACH;FMTTYPE=image/jpeg:https://collectiveeffortsunion.com/wp-content/uploads/2025/03/Amigo-the-Devil-3-credit_-Visions-of-the-Abyss-scaled.jpg
END:VEVENT
BEGIN:VEVENT
DTSTART;TZID=America/Chicago:20250629T200000
DTEND;TZID=America/Chicago:20250629T220000
DTSTAMP:20260421T102022
CREATED:20241118T203437Z
LAST-MODIFIED:20241119T163453Z
UID:10000209-1751227200-1751234400@collectiveeffortsunion.com
SUMMARY:The Office Trivia w/ "TODD PACKER" Starring DAVID KOECHNER
DESCRIPTION:THE OFFICE TRIVIA WITH “TODD PACKER” \nfeaturing Q&A and meet and greet with pictures with The Pack Man!!\n \n\nWhat’s up\, my trivia nerds? Test your knowledge of The Office with the Pack-Man himself\, David Koechner. \nTeams will compete for prizes – while also hearing behind-the-scenes stories from David about playing the hit show’s favorite\nobnoxious paper salesman (and Michael’s bff)\, Todd Packer. After multiple trivia rounds\, top teams will need to channel their\nfavorite The Office characters and test their acting chops in order to be crowned – by David – trivia champions. \nThe show also features a Q&A\, meet and greet and pictures with the Pack-Man! \n\n\n\nSunday\, June 29th \, 2025\n8:30 PM – 10:00 PM CST\nDoors open at 8:00 \nSioux Falls Orpheum\n315 N Phillips\nSioux Falls\, SD \nFacebook event & more info \n\nBUY TICKETS
URL:https://collectiveeffortsunion.com/event/the-office-trivia-w-todd-packer-starring-david-koechner/
LOCATION:Sioux Falls Orpheum\, 315 N Phillips\, Sioux Falls\, 57104
CATEGORIES:Comedy Shows,Featured Event
ATTACH;FMTTYPE=image/jpeg:https://collectiveeffortsunion.com/wp-content/uploads/2024/11/Koechner-image-5-photo-credit.jpg
END:VEVENT
END:VCALENDAR