BEGIN:VCALENDAR
VERSION:2.0
PRODID:-//Collective Efforts Union - ECPv6.15.20//NONSGML v1.0//EN
CALSCALE:GREGORIAN
METHOD:PUBLISH
X-ORIGINAL-URL:https://collectiveeffortsunion.com
X-WR-CALDESC:Events for Collective Efforts Union
REFRESH-INTERVAL;VALUE=DURATION:PT1H
X-Robots-Tag:noindex
X-PUBLISHED-TTL:PT1H
BEGIN:VTIMEZONE
TZID:America/Chicago
BEGIN:DAYLIGHT
TZOFFSETFROM:-0600
TZOFFSETTO:-0500
TZNAME:CDT
DTSTART:20230312T080000
END:DAYLIGHT
BEGIN:STANDARD
TZOFFSETFROM:-0500
TZOFFSETTO:-0600
TZNAME:CST
DTSTART:20231105T070000
END:STANDARD
BEGIN:DAYLIGHT
TZOFFSETFROM:-0600
TZOFFSETTO:-0500
TZNAME:CDT
DTSTART:20240310T080000
END:DAYLIGHT
BEGIN:STANDARD
TZOFFSETFROM:-0500
TZOFFSETTO:-0600
TZNAME:CST
DTSTART:20241103T070000
END:STANDARD
BEGIN:DAYLIGHT
TZOFFSETFROM:-0600
TZOFFSETTO:-0500
TZNAME:CDT
DTSTART:20250309T080000
END:DAYLIGHT
BEGIN:STANDARD
TZOFFSETFROM:-0500
TZOFFSETTO:-0600
TZNAME:CST
DTSTART:20251102T070000
END:STANDARD
END:VTIMEZONE
BEGIN:VEVENT
DTSTART;TZID=America/Chicago:20240203T180000
DTEND;TZID=America/Chicago:20240203T220000
DTSTAMP:20260422T122224
CREATED:20231016T193003Z
LAST-MODIFIED:20240126T031418Z
UID:10000049-1706983200-1706997600@collectiveeffortsunion.com
SUMMARY:2023's Funniest Comic of the Year @ Icon Event Hall
DESCRIPTION:2023’s Funniest Comedian of the Year!\n\nHosted by Dustin Slentz & featuring a set from last year’s winner: Ian Maclean\n+ touring comedian Stephen Taylor\nFeaturing your monthly Larry Brinkman Award Winners:\nThomas Paul\nPreston Williams\nThe One Will C\nChris Freier\nJerry Irby\nSara Manson\nKoerner\nDylan Tymes\nDan Snowberger\nContest Rules:\n7 min max – feel free to stop whenever you like. You will be given a light at 6 minutes and disqualified if you go over 7.\n* Must be present at award presentation to win.\nComedians are judged on:\nStage Persona – Comedian has a strong stage presence and unique style\nCreative Material – Original jokes\nCrowd Reaction – Laughs\, gasps\, boos\, crying\, etc.\nMemorization of Lines – Jokes not forgotten or stumbled over\, no notes on stage\nProfessionalism – Entering & exiting stage\, works entire room\, head up & projection of voice\, mic handling\n\n\nFacebook event + More Info
URL:https://collectiveeffortsunion.com/event/yearlycomedyicon/
LOCATION:Icon Event Hall – Sioux Falls\, 402 N Main Ave\, Sioux Falls\, SD\, 57104\, United States
CATEGORIES:Featured Event
ATTACH;FMTTYPE=image/jpeg:https://collectiveeffortsunion.com/wp-content/uploads/2023/10/2023-Funniest-Person-of-the-year-BANNER-1.jpg
END:VEVENT
END:VCALENDAR