BEGIN:VCALENDAR
VERSION:2.0
PRODID:-//Collective Efforts Union - ECPv6.15.20//NONSGML v1.0//EN
CALSCALE:GREGORIAN
METHOD:PUBLISH
X-ORIGINAL-URL:https://collectiveeffortsunion.com
X-WR-CALDESC:Events for Collective Efforts Union
REFRESH-INTERVAL;VALUE=DURATION:PT1H
X-Robots-Tag:noindex
X-PUBLISHED-TTL:PT1H
BEGIN:VTIMEZONE
TZID:America/Chicago
BEGIN:DAYLIGHT
TZOFFSETFROM:-0600
TZOFFSETTO:-0500
TZNAME:CDT
DTSTART:20230312T080000
END:DAYLIGHT
BEGIN:STANDARD
TZOFFSETFROM:-0500
TZOFFSETTO:-0600
TZNAME:CST
DTSTART:20231105T070000
END:STANDARD
BEGIN:DAYLIGHT
TZOFFSETFROM:-0600
TZOFFSETTO:-0500
TZNAME:CDT
DTSTART:20240310T080000
END:DAYLIGHT
BEGIN:STANDARD
TZOFFSETFROM:-0500
TZOFFSETTO:-0600
TZNAME:CST
DTSTART:20241103T070000
END:STANDARD
BEGIN:DAYLIGHT
TZOFFSETFROM:-0600
TZOFFSETTO:-0500
TZNAME:CDT
DTSTART:20250309T080000
END:DAYLIGHT
BEGIN:STANDARD
TZOFFSETFROM:-0500
TZOFFSETTO:-0600
TZNAME:CST
DTSTART:20251102T070000
END:STANDARD
END:VTIMEZONE
BEGIN:VEVENT
DTSTART;TZID=America/Chicago:20240518T200000
DTEND;TZID=America/Chicago:20240518T233000
DTSTAMP:20260422T091109
CREATED:20240325T070211Z
LAST-MODIFIED:20240326T203857Z
UID:10000106-1716062400-1716075000@collectiveeffortsunion.com
SUMMARY:An Evening with The Clover Fold
DESCRIPTION:THE CLOVER FOLD\nWINDFALL album release \nPlease join us for a night of celebration\, Sat May 18th!\nOur debut album Windfall will be available on vinyl and cd\, as well as digitally on all major platforms.\nWe can’t wait to share it with you live! \n \nDoors 8:00 PM | Show 9:00 PM\n\nSaturday\, May 18th\, 2024\n\n$10 Advance | $15 Day-of-Show\n\nFacebook RSVP + More Info\n 
URL:https://collectiveeffortsunion.com/event/an-evening-with-the-clover-fold/
LOCATION:Icon Event Hall – Sioux Falls\, 402 N Main Ave\, Sioux Falls\, SD\, 57104\, United States
CATEGORIES:Featured Event,Music Shows
ATTACH;FMTTYPE=image/jpeg:https://collectiveeffortsunion.com/wp-content/uploads/2024/03/The-Clover-Fold-banner.jpg
END:VEVENT
END:VCALENDAR