BEGIN:VCALENDAR
VERSION:2.0
PRODID:-//Collective Efforts Union - ECPv6.15.20//NONSGML v1.0//EN
CALSCALE:GREGORIAN
METHOD:PUBLISH
X-WR-CALNAME:Collective Efforts Union
X-ORIGINAL-URL:https://collectiveeffortsunion.com
X-WR-CALDESC:Events for Collective Efforts Union
REFRESH-INTERVAL;VALUE=DURATION:PT1H
X-Robots-Tag:noindex
X-PUBLISHED-TTL:PT1H
BEGIN:VTIMEZONE
TZID:America/Chicago
BEGIN:DAYLIGHT
TZOFFSETFROM:-0600
TZOFFSETTO:-0500
TZNAME:CDT
DTSTART:20230312T080000
END:DAYLIGHT
BEGIN:STANDARD
TZOFFSETFROM:-0500
TZOFFSETTO:-0600
TZNAME:CST
DTSTART:20231105T070000
END:STANDARD
BEGIN:DAYLIGHT
TZOFFSETFROM:-0600
TZOFFSETTO:-0500
TZNAME:CDT
DTSTART:20240310T080000
END:DAYLIGHT
BEGIN:STANDARD
TZOFFSETFROM:-0500
TZOFFSETTO:-0600
TZNAME:CST
DTSTART:20241103T070000
END:STANDARD
BEGIN:DAYLIGHT
TZOFFSETFROM:-0600
TZOFFSETTO:-0500
TZNAME:CDT
DTSTART:20250309T080000
END:DAYLIGHT
BEGIN:STANDARD
TZOFFSETFROM:-0500
TZOFFSETTO:-0600
TZNAME:CST
DTSTART:20251102T070000
END:STANDARD
END:VTIMEZONE
BEGIN:VEVENT
DTSTART;TZID=America/Chicago:20240831T190000
DTEND;TZID=America/Chicago:20240831T220000
DTSTAMP:20260422T014057
CREATED:20240719T184843Z
LAST-MODIFIED:20240719T184843Z
UID:10000128-1725130800-1725141600@collectiveeffortsunion.com
SUMMARY:MATO WAYUHI w/ PLASTIC BLOW & PEACOCK CASSETTE
DESCRIPTION:MATO WAYUHI\n \n\n \nMusician & producer. Composer for the award-winning Reservation Dogs. Member of the Forbes’ elite “30 Under 30” list in 2023 \nw/ Plastic Blow & Peacock Cassette \nFacebook RSVP & more info\n\nSaturday\, August 31st\, 2024\nDoors 7:00 PM | Show 9:00 PM\nAll Ages\nIcon Event Hall\n\n 
URL:https://collectiveeffortsunion.com/event/mato-wayuhi-w-plastic-blow-peacock-cassette/
LOCATION:Icon Event Hall – Sioux Falls\, 402 N Main Ave\, Sioux Falls\, SD\, 57104\, United States
CATEGORIES:Featured Event,Music Shows
ATTACH;FMTTYPE=image/jpeg:https://collectiveeffortsunion.com/wp-content/uploads/2024/06/mato-wayuhi-3.jpg
END:VEVENT
END:VCALENDAR