BEGIN:VCALENDAR
VERSION:2.0
PRODID:-//Collective Efforts Union - ECPv6.15.20//NONSGML v1.0//EN
CALSCALE:GREGORIAN
METHOD:PUBLISH
X-WR-CALNAME:Collective Efforts Union
X-ORIGINAL-URL:https://collectiveeffortsunion.com
X-WR-CALDESC:Events for Collective Efforts Union
REFRESH-INTERVAL;VALUE=DURATION:PT1H
X-Robots-Tag:noindex
X-PUBLISHED-TTL:PT1H
BEGIN:VTIMEZONE
TZID:America/Chicago
BEGIN:DAYLIGHT
TZOFFSETFROM:-0600
TZOFFSETTO:-0500
TZNAME:CDT
DTSTART:20230312T080000
END:DAYLIGHT
BEGIN:STANDARD
TZOFFSETFROM:-0500
TZOFFSETTO:-0600
TZNAME:CST
DTSTART:20231105T070000
END:STANDARD
BEGIN:DAYLIGHT
TZOFFSETFROM:-0600
TZOFFSETTO:-0500
TZNAME:CDT
DTSTART:20240310T080000
END:DAYLIGHT
BEGIN:STANDARD
TZOFFSETFROM:-0500
TZOFFSETTO:-0600
TZNAME:CST
DTSTART:20241103T070000
END:STANDARD
BEGIN:DAYLIGHT
TZOFFSETFROM:-0600
TZOFFSETTO:-0500
TZNAME:CDT
DTSTART:20250309T080000
END:DAYLIGHT
BEGIN:STANDARD
TZOFFSETFROM:-0500
TZOFFSETTO:-0600
TZNAME:CST
DTSTART:20251102T070000
END:STANDARD
END:VTIMEZONE
BEGIN:VEVENT
DTSTART;TZID=America/Chicago:20240910T200000
DTEND;TZID=America/Chicago:20240910T233000
DTSTAMP:20260422T001225
CREATED:20240628T174244Z
LAST-MODIFIED:20240901T201334Z
UID:10000124-1725998400-1726011000@collectiveeffortsunion.com
SUMMARY:The BRIDGE CITY SINNERS @ ICON
DESCRIPTION:THE BRIDGE CITY SINNERS\n \n\n \n\n\n\nFrom the misty\, pine-covered hills of the Pacific Northwest hail the Bridge City Sinners\, who span the continuum from prohibition era jazz to Appalachian death folk. This traditional string band line up bends the meaning of the word genre\, Playing festivals from Punk Rock Bowling\, to Muddy Roots\, to Oregon’s Bluegrass String Summit. They started their journey by busking on sidewalks across the country and  now this supergroup of musicians find themselves on the national tour circuit. The Sinners still hold true to the DIY mentality of putting albums out on a self made record label\, Flail Records. They recently hit #70 on the Billboard charts\, top current album sales\, for the week of September 4th 2021 for their album “Unholy Hymns”. With talented musicianship and a punk as f***! live show\, this is one band you don’t want to miss. \n\n\n\nw/ Lightnin’ Luke + Misty Cans & The Horny Toads \nFacebook RSVP & more info\n\nTuesday\, September 10th\, 2024\nDoors 8:00 PM | Show 9:00 PM\nIcon Lounge | Dada Gastropub\n 
URL:https://collectiveeffortsunion.com/event/the-bridge-city-sinners-icon/
LOCATION:Icon Event Hall – Sioux Falls\, 402 N Main Ave\, Sioux Falls\, SD\, 57104\, United States
CATEGORIES:Featured Event,Music Shows
ATTACH;FMTTYPE=image/jpeg:https://collectiveeffortsunion.com/wp-content/uploads/2024/06/Tin-Type-2-Photo-by-@cheatdeathtintype-Insta-AKA-Amanda-Beckwith.jpg
END:VEVENT
END:VCALENDAR