BEGIN:VCALENDAR
VERSION:2.0
PRODID:-//Collective Efforts Union - ECPv6.15.20//NONSGML v1.0//EN
CALSCALE:GREGORIAN
METHOD:PUBLISH
X-WR-CALNAME:Collective Efforts Union
X-ORIGINAL-URL:https://collectiveeffortsunion.com
X-WR-CALDESC:Events for Collective Efforts Union
REFRESH-INTERVAL;VALUE=DURATION:PT1H
X-Robots-Tag:noindex
X-PUBLISHED-TTL:PT1H
BEGIN:VTIMEZONE
TZID:America/Chicago
BEGIN:DAYLIGHT
TZOFFSETFROM:-0600
TZOFFSETTO:-0500
TZNAME:CDT
DTSTART:20240310T080000
END:DAYLIGHT
BEGIN:STANDARD
TZOFFSETFROM:-0500
TZOFFSETTO:-0600
TZNAME:CST
DTSTART:20241103T070000
END:STANDARD
BEGIN:DAYLIGHT
TZOFFSETFROM:-0600
TZOFFSETTO:-0500
TZNAME:CDT
DTSTART:20250309T080000
END:DAYLIGHT
BEGIN:STANDARD
TZOFFSETFROM:-0500
TZOFFSETTO:-0600
TZNAME:CST
DTSTART:20251102T070000
END:STANDARD
BEGIN:DAYLIGHT
TZOFFSETFROM:-0600
TZOFFSETTO:-0500
TZNAME:CDT
DTSTART:20260308T080000
END:DAYLIGHT
BEGIN:STANDARD
TZOFFSETFROM:-0500
TZOFFSETTO:-0600
TZNAME:CST
DTSTART:20261101T070000
END:STANDARD
END:VTIMEZONE
BEGIN:VEVENT
DTSTART;TZID=America/Chicago:20250429T190000
DTEND;TZID=America/Chicago:20250429T233000
DTSTAMP:20260421T132848
CREATED:20241115T142227Z
LAST-MODIFIED:20250321T212215Z
UID:10000206-1745953200-1745969400@collectiveeffortsunion.com
SUMMARY:LAURA JANE GRACE AND THE MISSISSIPPI MEDICALS @ ICON
DESCRIPTION:Laura Jane Grace is a major figure in today’s rock scene as both a solo artist and the front person of Against Me!\, which she founded in Naples\, FL in the late 1990s. As a working artist\, she has released six solo offerings and seven albums with Against Me!\, and in 2012 went public with her gender transition in the pages of Rolling Stone. In her music\, she continues to detail her journey all while staying true to her earlier themes of outspoken political critique – environmentalism along with personal and social liberation – with a base in American music including country and folk-rock\, with a penchant for noise and anarchy. Laura Jane will be joined by her band “The Mississippi Medicals” featuring Matt Patton of Drive-By Truckers (bass)\, Mikey Erg of The Ergs (drums) and Paris Campbell Grace (vocals\, percussion). \nhttps://www.laurajanegrace.com/ \n\n\nw/ Alex Lahey & Rodeo Boys \nFacebook RSVP & more info \nTuesday\, April 29th\, 2025\nDoors 7:00 PM | Show 8:00 PM\nIcon Event Hall\nALL AGES \n 
URL:https://collectiveeffortsunion.com/event/laura-jane-grace-and-the-mississippi-medicals-icon/
LOCATION:Icon Event Hall – Sioux Falls\, 402 N Main Ave\, Sioux Falls\, SD\, 57104\, United States
CATEGORIES:Featured Event,Music Shows
ATTACH;FMTTYPE=image/png:https://collectiveeffortsunion.com/wp-content/uploads/2024/11/ljgatmm_Square-1.psd-2-e1733842306642.png
END:VEVENT
END:VCALENDAR