BEGIN:VCALENDAR
VERSION:2.0
PRODID:-//Collective Efforts Union - ECPv6.15.20//NONSGML v1.0//EN
CALSCALE:GREGORIAN
METHOD:PUBLISH
X-WR-CALNAME:Collective Efforts Union
X-ORIGINAL-URL:https://collectiveeffortsunion.com
X-WR-CALDESC:Events for Collective Efforts Union
REFRESH-INTERVAL;VALUE=DURATION:PT1H
X-Robots-Tag:noindex
X-PUBLISHED-TTL:PT1H
BEGIN:VTIMEZONE
TZID:America/Chicago
BEGIN:DAYLIGHT
TZOFFSETFROM:-0600
TZOFFSETTO:-0500
TZNAME:CDT
DTSTART:20240310T080000
END:DAYLIGHT
BEGIN:STANDARD
TZOFFSETFROM:-0500
TZOFFSETTO:-0600
TZNAME:CST
DTSTART:20241103T070000
END:STANDARD
BEGIN:DAYLIGHT
TZOFFSETFROM:-0600
TZOFFSETTO:-0500
TZNAME:CDT
DTSTART:20250309T080000
END:DAYLIGHT
BEGIN:STANDARD
TZOFFSETFROM:-0500
TZOFFSETTO:-0600
TZNAME:CST
DTSTART:20251102T070000
END:STANDARD
BEGIN:DAYLIGHT
TZOFFSETFROM:-0600
TZOFFSETTO:-0500
TZNAME:CDT
DTSTART:20260308T080000
END:DAYLIGHT
BEGIN:STANDARD
TZOFFSETFROM:-0500
TZOFFSETTO:-0600
TZNAME:CST
DTSTART:20261101T070000
END:STANDARD
END:VTIMEZONE
BEGIN:VEVENT
DTSTART;TZID=America/Chicago:20250823T203000
DTEND;TZID=America/Chicago:20250823T233000
DTSTAMP:20260421T091219
CREATED:20250530T003304Z
LAST-MODIFIED:20250822T165924Z
UID:10000243-1755981000-1755991800@collectiveeffortsunion.com
SUMMARY:CHEWY RODRIGUEZ @ ICON EVENTS w/ JEFF THOMSON
DESCRIPTION:Unfortunately\, Mason Jennings has injured his hand in a bicycle accident\nand will be unable to perform this weekend.\nWe will be rescheduling this date for him to appear in Sioux Falls @ ICON as soon as possible.\n  \n \n\n\n\n\n\n\nChewy Rodriguez is a singer-songwriter whose musical style blends elements of folk and alt-country\, influenced by Tyler Childers\, John Mayer\, and Zach Bryan. He delivers intimate\, emotionally resonant performances that leave audiences charmed.\nHe recently released his debut EP\, Chasing Dreams Never Gets Old\, which is quickly gaining traction. Chewy has also opened for artists like Mason Jennings\, showcasing his talent to wider audiences. With a growing fan base\, he is poised for exciting new opportunities and remains committed to connecting with listeners through heartfelt lyrics and captivating live shows.\n\n\n\n\n\n\n\n\n\n“Top class artist with his own vision\, great voice\, and interesting material.” – William D. Lucey of Rubyhorse\nw/ special guest: \nJeff Thomson\n\n\n\nFacebook RSVP + More Info \nSaturday\, August 23rd\nICON Events\n8:30 Door | 9:00 Show
URL:https://collectiveeffortsunion.com/event/chewyheadliner/
LOCATION:Icon Event Hall – Sioux Falls\, 402 N Main Ave\, Sioux Falls\, SD\, 57104\, United States
CATEGORIES:Featured Event,Music Shows
ATTACH;FMTTYPE=image/jpeg:https://collectiveeffortsunion.com/wp-content/uploads/2025/05/POSTER-2.001.jpeg
END:VEVENT
END:VCALENDAR