BEGIN:VCALENDAR
VERSION:2.0
PRODID:-//Collective Efforts Union - ECPv6.15.20//NONSGML v1.0//EN
CALSCALE:GREGORIAN
METHOD:PUBLISH
X-WR-CALNAME:Collective Efforts Union
X-ORIGINAL-URL:https://collectiveeffortsunion.com
X-WR-CALDESC:Events for Collective Efforts Union
REFRESH-INTERVAL;VALUE=DURATION:PT1H
X-Robots-Tag:noindex
X-PUBLISHED-TTL:PT1H
BEGIN:VTIMEZONE
TZID:America/Chicago
BEGIN:DAYLIGHT
TZOFFSETFROM:-0600
TZOFFSETTO:-0500
TZNAME:CDT
DTSTART:20250309T080000
END:DAYLIGHT
BEGIN:STANDARD
TZOFFSETFROM:-0500
TZOFFSETTO:-0600
TZNAME:CST
DTSTART:20251102T070000
END:STANDARD
BEGIN:DAYLIGHT
TZOFFSETFROM:-0600
TZOFFSETTO:-0500
TZNAME:CDT
DTSTART:20260308T080000
END:DAYLIGHT
BEGIN:STANDARD
TZOFFSETFROM:-0500
TZOFFSETTO:-0600
TZNAME:CST
DTSTART:20261101T070000
END:STANDARD
BEGIN:DAYLIGHT
TZOFFSETFROM:-0600
TZOFFSETTO:-0500
TZNAME:CDT
DTSTART:20270314T080000
END:DAYLIGHT
BEGIN:STANDARD
TZOFFSETFROM:-0500
TZOFFSETTO:-0600
TZNAME:CST
DTSTART:20271107T070000
END:STANDARD
END:VTIMEZONE
BEGIN:VEVENT
DTSTART;TZID=America/Chicago:20260109T190000
DTEND;TZID=America/Chicago:20260109T220000
DTSTAMP:20260421T070242
CREATED:20250122T214404Z
LAST-MODIFIED:20251223T150916Z
UID:10000223-1767985200-1767996000@collectiveeffortsunion.com
SUMMARY:2025's Funniest Comic of the Year @ Icon Event Hall
DESCRIPTION:2025’s Funniest Comedian of the Year!\n\nHosted by Dave Holly\n\nDave hosts a local podcast about Sioux Empire Arts & Entertainment and has had several comics on the show. He also cohosts and coproduces a Variety how called The Vaudies—Modern-Day Vaudeville where each show has a different cast but always includes a comic. He’s a comedy lover & supporter with over 20 years of Improv experience\, he’s also dabbled in standup by hosting\, opening and featuring.\nFeaturing your monthly Larry Brinkman Award Winners:\nJanuary – Joey Stibral\nFebruary – Koerner\nMarch – Preston Williams\nApril – Colin Katrenak\nMay – Tony Tubes\nJune – Koerner\nJuly – Jerry Irby\nAugust – Chris Freier\nSeptember – Jocelyn Abad\nOctober  – Alisha Rayne\nNovember  – Colton Jensen\nDecember – Adam Goodge\n+ a feature set from last year’s winner – Jacob Womack\nContest Rules:\n7 min max – feel free to stop whenever you like. You will be given a light at 6 minutes and disqualified if you go over 7.\n* Must be present at award presentation to win.\nComedians are judged on:\nStage Persona – Comedian has a strong stage presence and unique style\nCreative Material – Original jokes\nCrowd Reaction – Laughs\, gasps\, boos\, crying\, etc.\nMemorization of Lines – Jokes not forgotten or stumbled over\, no notes on stage\nProfessionalism – Entering & exiting stage\, works entire room\, head up & projection of voice\, mic handling\n\nFacebook event + More Info\nFriday\, January 9th\, 2026\n8:00 PM – 10:00 PM\nDoors open at 7:00 \nIcon Event Hall\n402 N Main #dtsf \n** All seating first-come first-serve\n** Premier Seating is front 10%
URL:https://collectiveeffortsunion.com/event/2025s-funniest-comic-of-the-year-icon-event-hall/
LOCATION:Icon Event Hall – Sioux Falls\, 402 N Main Ave\, Sioux Falls\, SD\, 57104\, United States
CATEGORIES:Comedy Shows,Featured Event
ATTACH;FMTTYPE=image/jpeg:https://collectiveeffortsunion.com/wp-content/uploads/2025/01/2025-Funniest-Person-Flyer.jpg
END:VEVENT
END:VCALENDAR