BEGIN:VCALENDAR
VERSION:2.0
PRODID:-//Collective Efforts Union - ECPv6.15.20//NONSGML v1.0//EN
CALSCALE:GREGORIAN
METHOD:PUBLISH
X-ORIGINAL-URL:https://collectiveeffortsunion.com
X-WR-CALDESC:Events for Collective Efforts Union
REFRESH-INTERVAL;VALUE=DURATION:PT1H
X-Robots-Tag:noindex
X-PUBLISHED-TTL:PT1H
BEGIN:VTIMEZONE
TZID:America/Chicago
BEGIN:DAYLIGHT
TZOFFSETFROM:-0600
TZOFFSETTO:-0500
TZNAME:CDT
DTSTART:20250309T080000
END:DAYLIGHT
BEGIN:STANDARD
TZOFFSETFROM:-0500
TZOFFSETTO:-0600
TZNAME:CST
DTSTART:20251102T070000
END:STANDARD
BEGIN:DAYLIGHT
TZOFFSETFROM:-0600
TZOFFSETTO:-0500
TZNAME:CDT
DTSTART:20260308T080000
END:DAYLIGHT
BEGIN:STANDARD
TZOFFSETFROM:-0500
TZOFFSETTO:-0600
TZNAME:CST
DTSTART:20261101T070000
END:STANDARD
BEGIN:DAYLIGHT
TZOFFSETFROM:-0600
TZOFFSETTO:-0500
TZNAME:CDT
DTSTART:20270314T080000
END:DAYLIGHT
BEGIN:STANDARD
TZOFFSETFROM:-0500
TZOFFSETTO:-0600
TZNAME:CST
DTSTART:20271107T070000
END:STANDARD
END:VTIMEZONE
BEGIN:VEVENT
DTSTART;TZID=America/Chicago:20260422T190000
DTEND;TZID=America/Chicago:20260425T190000
DTSTAMP:20260422T070555
CREATED:20260113T050506Z
LAST-MODIFIED:20260222T152113Z
UID:10000267-1776884400-1777143600@collectiveeffortsunion.com
SUMMARY:Four Twenty Falls LIVE @ Bigs w/ Manic Focus\, Jon Wayne & The Pain\, & GRIEVES
DESCRIPTION:Westside Glass Emporium Presents: FOUR TWENTY FALLS 2026\nThe wait is over. We are proud to announce the return of Four Twenty Falls\, taking over Bigs Bar for four days of music\, art\, and community from April 22nd–25th.\nWe have curated a diverse sonic journey for this year’s installment\, blending top-tier production with some of the best regional talent.\n+++\n🌊 THE LINEUP\n➤‎ Wednesday\, April 22 | Rock & Funk‎ ‎ ‎ ‎ ‎ ‎ Mr. Feeny‎ ‎ ‎ GranolaGallivant‎ ‎ ‎ Indigent‎ ‎ ‎ Freya Jane & the Nightshades‎ ‎ ‎ ➤‎ Thursday\, April 23 | Electronic & Bass‎ ‎ ‎ ‎ ‎ ‎ Manic Focus [Co-Headliner]‎ ‎ ‎ SunSquabi [Co-Headliner]Russ Liquid‎ ‎ ‎ Mr. Wobbles‎ ‎ ‎ Strange Language‎ ‎ ‎ ➤‎ Friday\, April 24 | Reggae & Roots‎ ‎ ‎ ‎ ‎ ‎ Jon Wayne and the Pain‎ ‎ ‎ Tuff Roots‎ ‎ ‎ Camp Comfort‎ ‎ ‎ The Limns‎ ‎ ‎ ➤‎ Saturday\, April 25 | Hip-Hop‎ ‎ ‎ ‎ ‎ ‎ Grieves‎ ‎ ‎ Fat CDGTAngel BP & Blaeko‎ ‎ ‎ ‎ ‎ ‎ Official After Party featuring Prof’s DJ Willie WonkaBigs own DJ Bow\n\n\n\n \n\n\n\n\nFacebook event & more info\nThursday\, April 22nd\, 2026 – Saturday\, April 25th\, 2026\nDoors 7:00 PM | Show 8:00 PM\nBIGS
URL:https://collectiveeffortsunion.com/event/four-twenty-falls-live-bigs-w-manic-focus-jwap-grieves/
LOCATION:BIGS – Sioux Falls\, 3110 w 12th St\, SIOUX FALLS\, SD\, 57104\, United States
CATEGORIES:Featured Event,Music Shows
ATTACH;FMTTYPE=image/png:https://collectiveeffortsunion.com/wp-content/uploads/2026/01/https___cdn.evbuc_.com_images_1174326258_2809011206691_1_original.png
END:VEVENT
BEGIN:VEVENT
DTSTART;TZID=America/Chicago:20260425T190000
DTEND;TZID=America/Chicago:20260425T223000
DTSTAMP:20260422T070555
CREATED:20260113T145744Z
LAST-MODIFIED:20260127T025941Z
UID:10000268-1777143600-1777156200@collectiveeffortsunion.com
SUMMARY:GRIEVES returns to BIGS as a part of FOUR TWENTY FALLS
DESCRIPTION:With two decades of experience in the music industry\, Seattle’s own Grieves has sculpted a remarkable path as an independent artist. Originally signing with Rhymesayers in 2009\, Grieves toured globally\, sharing the stage with a plethora of influential artists such as Atmosphere\, Macklemore\, T-Pain\, Watsky\, Brother Ali\, Evidence\, Chris Webby\, Rittz\, People Under The Stairs\, Pepper\, Bad Fish\, and many more. Grieves’ extensive catalog has garnered hundreds of millions of plays\, landing him at the coveted #1 spot on the Billboard Heatseekers chart and #57 on the top 200.\n \nAlong the way\, his musical journey has caught the eye of major publications like Pitchfork\, Playboy\, and even your mom’s diary. Transitioning to a new chapter in his career\, Grieves now self-releases his music under his label\, “Storm Watch Record Club.” Always passionate about his craft\, he is currently in the studio recording his next album\, which promises to be another milestone in his storied career. In Feb 2023 Grieves teamed up with his longtime friend Mouse Powelland made an action packed EP called WHY NOT?\n\n\n\n \n\n\n\n\nFacebook event & more info\nSaturday\, April 25th\, 2026\nDoors 7:00 PM | Show 8:00 PM\nBIGS\n 
URL:https://collectiveeffortsunion.com/event/grieves-returns-to-bigs-as-a-part-of-four-twenty-falls/
LOCATION:BIGS – Sioux Falls\, 3110 w 12th St\, SIOUX FALLS\, SD\, 57104\, United States
CATEGORIES:Featured Event,Music Shows
ATTACH;FMTTYPE=image/jpeg:https://collectiveeffortsunion.com/wp-content/uploads/2026/01/@MikeSquires-on-IG-0862-scaled.jpg
END:VEVENT
END:VCALENDAR