BEGIN:VCALENDAR
VERSION:2.0
PRODID:-//Collective Efforts Union - ECPv6.15.20//NONSGML v1.0//EN
CALSCALE:GREGORIAN
METHOD:PUBLISH
X-ORIGINAL-URL:https://collectiveeffortsunion.com
X-WR-CALDESC:Events for Collective Efforts Union
REFRESH-INTERVAL;VALUE=DURATION:PT1H
X-Robots-Tag:noindex
X-PUBLISHED-TTL:PT1H
BEGIN:VTIMEZONE
TZID:America/Chicago
BEGIN:DAYLIGHT
TZOFFSETFROM:-0600
TZOFFSETTO:-0500
TZNAME:CDT
DTSTART:20250309T080000
END:DAYLIGHT
BEGIN:STANDARD
TZOFFSETFROM:-0500
TZOFFSETTO:-0600
TZNAME:CST
DTSTART:20251102T070000
END:STANDARD
BEGIN:DAYLIGHT
TZOFFSETFROM:-0600
TZOFFSETTO:-0500
TZNAME:CDT
DTSTART:20260308T080000
END:DAYLIGHT
BEGIN:STANDARD
TZOFFSETFROM:-0500
TZOFFSETTO:-0600
TZNAME:CST
DTSTART:20261101T070000
END:STANDARD
BEGIN:DAYLIGHT
TZOFFSETFROM:-0600
TZOFFSETTO:-0500
TZNAME:CDT
DTSTART:20270314T080000
END:DAYLIGHT
BEGIN:STANDARD
TZOFFSETFROM:-0500
TZOFFSETTO:-0600
TZNAME:CST
DTSTART:20271107T070000
END:STANDARD
END:VTIMEZONE
BEGIN:VEVENT
DTSTART;TZID=America/Chicago:20260501T190000
DTEND;TZID=America/Chicago:20260501T220000
DTSTAMP:20260422T070555
CREATED:20260321T161504Z
LAST-MODIFIED:20260323T140455Z
UID:10000281-1777662000-1777672800@collectiveeffortsunion.com
SUMMARY:40 YEARS OF FOLEY - Mick Foley @ The Alliance
DESCRIPTION:Wrestling’s finest storyteller is back with his first one-man-show tour in three years. Mick has assembled a brand new show featuring stories from throughout his legendary career – and each show concludes with a 45 minute Q&A. Featuring Mick’s trademark blend of warmth and wildness\, wit and wisdom\, this show is sure to be a hit for the legion of Foley fans out there.\n\nWe’re back after taking a year off from the “Nice Day” Tour with a BRAND NEW show! That’s right Mrs.Foley’s baby boy is BACK!! He has named his new show “40 Years of Foley” Tour to commemorate 40 years in the wrestling business.\n  \n\nFacebook event + More Info\nFriday\, May 1st\, 2026\n8:00 PM – 10:00 PM\nDoors open at 7:00\nThe Alliance\n1600 W Russell\nSioux Falls\, SD\n** GA Seating is first-come\, first serve\n** Premier Seating is front 3 rows
URL:https://collectiveeffortsunion.com/event/40-years-of-foley-mick-foley-the-alliance/
LOCATION:The Alliance – Sioux Falls\, 1600 W. Russell St\, Sioux Falls\, SD\, 57104\, United States
CATEGORIES:Comedy Shows,Featured Event
ATTACH;FMTTYPE=image/jpeg:https://collectiveeffortsunion.com/wp-content/uploads/2026/03/IMG_7009.jpg
END:VEVENT
END:VCALENDAR