BEGIN:VCALENDAR
VERSION:2.0
PRODID:-//Collective Efforts Union - ECPv6.15.20//NONSGML v1.0//EN
CALSCALE:GREGORIAN
METHOD:PUBLISH
X-WR-CALNAME:Collective Efforts Union
X-ORIGINAL-URL:https://collectiveeffortsunion.com
X-WR-CALDESC:Events for Collective Efforts Union
REFRESH-INTERVAL;VALUE=DURATION:PT1H
X-Robots-Tag:noindex
X-PUBLISHED-TTL:PT1H
BEGIN:VTIMEZONE
TZID:America/Chicago
BEGIN:DAYLIGHT
TZOFFSETFROM:-0600
TZOFFSETTO:-0500
TZNAME:CDT
DTSTART:20250309T080000
END:DAYLIGHT
BEGIN:STANDARD
TZOFFSETFROM:-0500
TZOFFSETTO:-0600
TZNAME:CST
DTSTART:20251102T070000
END:STANDARD
BEGIN:DAYLIGHT
TZOFFSETFROM:-0600
TZOFFSETTO:-0500
TZNAME:CDT
DTSTART:20260308T080000
END:DAYLIGHT
BEGIN:STANDARD
TZOFFSETFROM:-0500
TZOFFSETTO:-0600
TZNAME:CST
DTSTART:20261101T070000
END:STANDARD
BEGIN:DAYLIGHT
TZOFFSETFROM:-0600
TZOFFSETTO:-0500
TZNAME:CDT
DTSTART:20270314T080000
END:DAYLIGHT
BEGIN:STANDARD
TZOFFSETFROM:-0500
TZOFFSETTO:-0600
TZNAME:CST
DTSTART:20271107T070000
END:STANDARD
END:VTIMEZONE
BEGIN:VEVENT
DTSTART;TZID=America/Chicago:20260207T190000
DTEND;TZID=America/Chicago:20260207T220000
DTSTAMP:20260421T074700
CREATED:20251023T080019Z
LAST-MODIFIED:20251124T170252Z
UID:10000261-1770490800-1770501600@collectiveeffortsunion.com
SUMMARY:DAN BUBLITZ JR Comedy LIVE @ LUCKYS | Club 224 w/ Taylor Soderborg & hosted by Travis Ruston
DESCRIPTION:Dan Bublitz Jr is a comedian known for his one-man show\, It Was Supposed to Be a Love Story\, and Dry Bar Comedy Special Use Your Imagination. In 2025\, Dan was a featured performer in a showcase-style comedy special called Live in Loveland\, which is streaming on Tubi and AppleTV. His comedy style can be described as upbeat storytelling sprinkled with silly one-liners. Dan has appeared in films & commercials\, and his comedy has appeared on Comedy Time TV\, Pandora\, Spotify\, and Amazon Prime. During his career\, Dan has performed at numerous comedy festivals\, including the Plano Comedy Festival\, the North Carolina Comedy Festival\, and the Albuquerque Funny Fiesta. He is the creator and host of the comedy podcast The Art of Bombing\, where he interviews other comedians about what they have learned from horrible shows. When Dan is not performing at clubs and venues across the country\, he enjoys his time at home reading comic books and collecting toys.\n\n \nTaylor Soderborg is a doctor turned comic. With both an MD and a PhD\, she is proof you can go to too much school. Blending education and humor\, she uses her science and medical experiences to inspire her comedy. Taylor is passionate about science communication and is the Executive Director of Science Riot\, a non-profit science outreach program that turns scientists into engaging speakers through comedy.\n  \n\n\n\n\n\n\n \n+ hosted by Travis Rustona lifelong fan of comedy\, eventually found himself picking up the mic. The rest is history. New to the scene\, he brings laughter everywhere he goes.\n\nFacebook event & More Info\n \n\nSaturday\, February 7th\, 20258 PM – 10:00 PM CSTDoors open at 7:00Luckys Downtown – Club 224224 N Phillips Ave #dtsf** All seating first-come first-serve** Premier Seating is front 2 rows
URL:https://collectiveeffortsunion.com/event/dan-bublitz-jr-comedy-live-luckys-club-224-w-taylor-soderborg-more-tba/
LOCATION:Luckys 224 – Sioux Falls\, 224 S Phillips\, Sioux Falls\, SD\, 57104\, United States
CATEGORIES:Comedy Shows
ATTACH;FMTTYPE=image/jpeg:https://collectiveeffortsunion.com/wp-content/uploads/2025/10/H-Dan-Bublitz-Casual-On-Stage-3-scaled.jpg
END:VEVENT
BEGIN:VEVENT
DTSTART;TZID=America/Chicago:20260227T200000
DTEND;TZID=America/Chicago:20260227T233000
DTSTAMP:20260421T074700
CREATED:20251102T013910Z
LAST-MODIFIED:20260129T041641Z
UID:10000262-1772222400-1772235000@collectiveeffortsunion.com
SUMMARY:PERT NEAR SANDSTONE returns to ICON w/ Tomahawk County
DESCRIPTION:Formed by old friends within the vibrant Minneapolis music scene\, they have been tireless stewards of the midwestern roots music community for over two decades. Performing with infectious energy and an undeniable joy\, Pert Near’s strong songcraft melds with old-time sensibilities in a unique brand of modern string band music they deliver to fans around the world. Pert Near has had the privilege of helping to establish and continuing to curate and host the Blue Ox Music Festival. Their next studio album is due to be released in the fall of this year.  \n \nw/ guests: \nTOMAHAWK COUNTY \nTomahawk County is a bluegrass band out of Sioux Falls that plays Grateful Dead and Phish covers as well as other bluegrass standards. \n \n\n\n\nFacebook event & more info \nFriday\, February 27th\, 2026\nDoors 8:00 PM | Show 9:00 PM\nIcon Events | DaDa \n  \n 
URL:https://collectiveeffortsunion.com/event/pert-near-sandstone-returns-to-icon-w-tomahawk-county/
LOCATION:Icon Event Hall – Sioux Falls\, 402 N Main Ave\, Sioux Falls\, SD\, 57104\, United States
CATEGORIES:Featured Event,Music Shows
ATTACH;FMTTYPE=image/jpeg:https://collectiveeffortsunion.com/wp-content/uploads/2025/11/Pert-Near-photo-2023-.jpeg
END:VEVENT
END:VCALENDAR